BEGIN:VCALENDAR
VERSION:2.0
PRODID:-//YES Employment and Entrepreneurship - ECPv6.15.20//NONSGML v1.0//EN
CALSCALE:GREGORIAN
METHOD:PUBLISH
X-ORIGINAL-URL:https://yesmontreal.ca
X-WR-CALDESC:Events for YES Employment and Entrepreneurship
REFRESH-INTERVAL;VALUE=DURATION:PT1H
X-Robots-Tag:noindex
X-PUBLISHED-TTL:PT1H
BEGIN:VTIMEZONE
TZID:America/Toronto
BEGIN:DAYLIGHT
TZOFFSETFROM:-0500
TZOFFSETTO:-0400
TZNAME:EDT
DTSTART:20250309T070000
END:DAYLIGHT
BEGIN:STANDARD
TZOFFSETFROM:-0400
TZOFFSETTO:-0500
TZNAME:EST
DTSTART:20251102T060000
END:STANDARD
BEGIN:DAYLIGHT
TZOFFSETFROM:-0500
TZOFFSETTO:-0400
TZNAME:EDT
DTSTART:20260308T070000
END:DAYLIGHT
BEGIN:STANDARD
TZOFFSETFROM:-0400
TZOFFSETTO:-0500
TZNAME:EST
DTSTART:20261101T060000
END:STANDARD
BEGIN:DAYLIGHT
TZOFFSETFROM:-0500
TZOFFSETTO:-0400
TZNAME:EDT
DTSTART:20270314T070000
END:DAYLIGHT
BEGIN:STANDARD
TZOFFSETFROM:-0400
TZOFFSETTO:-0500
TZNAME:EST
DTSTART:20271107T060000
END:STANDARD
END:VTIMEZONE
BEGIN:VEVENT
DTSTART;TZID=America/Toronto:20260303T120000
DTEND;TZID=America/Toronto:20260303T133000
DTSTAMP:20260425T193757
CREATED:20260116T201005Z
LAST-MODIFIED:20260116T220547Z
UID:92435-1772539200-1772544600@yesmontreal.ca
SUMMARY:ELLEvating Women Entrepreneurs: Smart Marketing Made Simple
DESCRIPTION:Build Your Marketing System: Grow Your Business Easily and Through Automation\nDo you want to streamline your marketing without feeling overwhelmed? During this free workshop\, you will discover how to manage communication\, automate operational workflows. You will learn to put in place a coherent marketing strategy that allows you to build relationships and not just generate clicks. \nMarketing does not need to be complicated. By learning to work more intelligently\, you can save time\, increase your visibility\, and grow your clientele without making extra effort. This workshop presents accessible tools that make all of this possible\, such as LinkedIn for networking or HubSpot for campaign organization and basic task automation. \nStreamline Your Marketing Through Tools and Automation\nIn this workshop you will learn how to create a mini marketing system adapted to your business. This includes methodical and authentic content planning\, consistent scheduling of communication\, and automation of repetitive tasks so that marketing is viable in the long term. \nThis workshop emphasizes building reciprocal relationships with your audience. You will discover methods to engage your potential clients in a meaningful way and turn them into loyal collaborators\, without exhausting yourself. \nPractical Advice for Busy Entrepreneurs\nAt the end of the workshop\, participants will be able to: \n\nUnderstand how to manage campaigns using LinkedIn and HubSpot\nAutomate operational workflows to save time\nPlan and schedule content for greater consistency\nPut in place a practical marketing system that nurtures clientele and increases visibility\n\nReserve Your Spot!\nThis workshop is ideal for very busy founders who want to implement effective and scalable marketing according to their business. Thanks to clear advice and practical strategies\, you will be ready to put in place a marketing workflow that will save you time\, expand your clientele\, and feel completely manageable. \nLearn more about our ELLEvate Women Entrepreneurs program! \nThis workshop is made accessible to you at no cost\, thanks to the generous support of YSpace: York University and Innovation\, Science\, and Economic Development Canada. While not all our programs are fully funded\, we are committed to providing services either free of charge or at minimal cost. Thank you for choosing YES! \n*Please Note: Pre-registration is required. Presented in English. Available as an online\, live streaming webinar only. \nOnce you have registered\, you will receive an email with instructions on how to log on a few hours prior to the start time of the workshop. Please check your Spam/Junk folder if you have not received your email with instructions. 
URL:https://yesmontreal.ca/event/ellevating-women-entrepreneurs-smart-marketing-made-simple/
LOCATION:Online / Remote\, Canada
CATEGORIES:Daytime,ELLEvate Women Entrepreneurs,Entrepreneurship,Virtual
ORGANIZER;CN="YES Employment + Entrepreneurship":MAILTO:info@yesmontreal.ca
END:VEVENT
BEGIN:VEVENT
DTSTART;TZID=America/Toronto:20260312T120000
DTEND;TZID=America/Toronto:20260312T130000
DTSTAMP:20260425T193757
CREATED:20260203T214542Z
LAST-MODIFIED:20260203T220658Z
UID:92976-1773316800-1773320400@yesmontreal.ca
SUMMARY:Learn at Lunch: Rich Isn’t Just Revenue: How Business Owners can Build Real Wealth
DESCRIPTION:Build Real Wealth Beyond Business Revenue — Register Free\nLearn how entrepreneurs can turn strong income into long-term personal security. In this 1-hour\, online Learn at Lunch workshop\, you’ll see why revenue and reinvestment aren’t the same as wealth—and what to do instead. \nWhy revenue isn’t the same as wealth\nMany business owners focus on growing revenue\, scaling operations\, and reinvesting every dollar back into the business—yet still feel uncertain about long-term financial security. That’s because wealth is built through ownership\, diversification\, and a plan\, not just higher sales. This session explains how relying solely on your business can quietly increase risk and reduce your future options. \nCommon wealth-building mistakes entrepreneurs make\nYou’ll explore three common traps that can hold business owners back from building lasting personal wealth: \n\nOver-reinvesting in the business at the expense of personal assets\nUnder-diversifying income and investments (too much tied to one company)\nDelaying retirement planning because you don’t expect to “stop working”\n\nWhat you’ll learn (practical and high-level)\nThis workshop is designed to be approachable—no finance background required. You’ll gain a practical\, high-level overview of how the stock and bond markets can help entrepreneurs: \n\nBuild personal wealth beyond business income\nStrengthen financial resilience during slower seasons or unexpected changes\nCreate long-term freedom\, flexibility\, and optionality\n\nA better way to think about wealth\nInstead of waiting until the business is “done\,” this session reframes wealth as something you build alongside your business—starting now—so your future isn’t dependent on day-to-day operations. By the end\, you’ll have clearer next steps and a more confident mindset about building personal financial security beyond your company. \nWho this workshop is for\nThis workshop is for business owners who want their money working for them—now and in the future—so they can build lasting personal wealth and avoid depending on their business forever. If you’ve been reinvesting everything\, relying on your business as your retirement plan\, or looking for a straightforward way to diversify\, you’ll find this session especially valuable. \nEvent details\n\nTitle: Learn at Lunch: Rich Isn’t Just Revenue: How Business Owners Can Build Real Wealth\nDate: Thursday\, March 12\nTime: 12:00 PM – 1:00 PM\nFormat: Online\, live-stream webinar (English)\nCost: Free\nSpeaker: Anjali Pradhan\, CFA | Investment Coach\n\nPre-registration is required. Take one smart step toward lasting personal wealth. \nRegister Now!\n\nAbout the speaker:\n\nAnjali is a business and money coach who helps women build lasting wealth—not just profitable businesses. She takes a holistic approach that looks at business revenue\, personal income\, and how those dollars can be transformed into long‑term financial freedom. \n\nAs a Chartered Financial Analyst and former banker\, Anjali brings institutional‑level financial expertise delivered without hype\, fear tactics\, or influencer shortcuts. \nHer work centers on one key outcome: helping women become work‑optional—creating a life where working is a choice\, not a requirement. \n\n  \n\nHow to Join: After you register\, you’ll receive an email with login instructions. If you haven’t received it an hour before the workshop\, please check your Spam/Junk folder. \nRegister Now!\n*This free workshop is only possible thanks to our generous funders and partners. \nTo learn more about our services for entrepreneurs\, click here.
URL:https://yesmontreal.ca/event/build-real-wealth-beyond-business-revenue/
LOCATION:Online / Remote\, Canada
CATEGORIES:Daytime,ELLEvate Women Entrepreneurs,Entrepreneurship,Virtual
ORGANIZER;CN="YES Employment + Entrepreneurship":MAILTO:info@yesmontreal.ca
END:VEVENT
BEGIN:VEVENT
DTSTART;TZID=America/Toronto:20260317T183000
DTEND;TZID=America/Toronto:20260317T203000
DTSTAMP:20260425T193757
CREATED:20260121T210355Z
LAST-MODIFIED:20260313T204521Z
UID:92507-1773772200-1773779400@yesmontreal.ca
SUMMARY:Unapologetically Well: Take Better Care of Yourself\, While Taking Care of Your Venture
DESCRIPTION:Lead Your Venture Without Burnout: Reclaim Your Energy and Thrive as an Entrepreneur\nThis workshop teaches participants how to integrate wellness as a strategic system. Doing so ensures energy\, focus\, and creativity are aligned with the growth of their business. \nIn this session\, you’ll discover how to lead your venture without burnout by anchoring your decisions to your “Why”. We’ll also discuss managing energy effectively and creating a sustainable rhythm of work. This workshop emphasizes practical tools for self-support and decision-making\, allowing founders to build businesses that thrive in harmony with their own well-being. \nEnergy as Strategy and Purpose-Anchored Leadership\nWe’ll explore energy as a core strategy. Participants will learn simple\, sustainable habits and nervous system regulation tools to maintain focus\, protect energy\, and reduce stress. This approach allows women entrepreneurs to make clearer decisions and maintain momentum without depletion. \nThe session also covers purpose-anchored leadership\, teaching attendees to use their “Why” as a filter for decision-making. By aligning actions with core values\, participants strengthen confidence\, reduce overwhelm\, and ensure their business evolves in alignment with what matters most. \nBoundaries\, Self-Support\, and Business Design\nA central focus of this workshop is integrating boundaries and self-support into business operations. Participants learn practical frameworks for time management\, prioritization\, and consistency. By designing their business around capacity and well-being\, women can show up fully without sacrificing personal health. \nBy the end of the workshop\, attendees will leave equipped with: \n\nEnergy as Strategy – tools and habits to maintain focus and momentum without burnout\nPurpose-Anchored Leadership – decision-making strategies anchored in their “Why”\nBoundaries & Self-Support – practical rituals and frameworks to sustain themselves and their venture\nThis session empowers women founders to reclaim their schedules\, make aligned decisions\, and build ventures that thrive while maintaining personal wellness.\n\nSpeaker: Peggy Korban\, Coach\, Growth and Clarity Facilitator\, Founder\, Heal Thyself  \n\n\n\nSign Up Today!\n\n🔗 Register now and take your business to the next level! 🚀 \nAbout the speaker:\nPeggy is a wellness advocate who blends structure\, heartfelt listening\, and a commitment to real\, tangible results. With a background in teaching and training\, she brings clarity\, compassion\, and depth to every space she leads. The realm of wellness remains at the heart of her mission\, guiding her work as she supports individuals and founders in reconnecting with themselves\, strengthening their resilience\, and creating lives and businesses that thrive from the inside out \nLearn more about our ELLEvate Women Entrepreneurs program!\nThis workshop is made accessible to you at no cost\, thanks to generous funding from the Government of Canada and Yspace: York University. \n*Please Note: Pre-registration is required. This workshop is presented in English (with French subtitles) and is available as an online\, live streaming webinar only. \nOnce you have registered\, you will receive an email with instructions on how to log on a few hours prior to the start time of the workshop. Please check your Spam/Junk folder if you have not received your email with instructions one hour prior to the start time of the workshop.
URL:https://yesmontreal.ca/event/lead-your-venture-without-burnout/
LOCATION:Online / Remote\, Canada
CATEGORIES:ELLEvate Women Entrepreneurs,Entrepreneurship,Evening,Virtual
ORGANIZER;CN="YES Employment + Entrepreneurship":MAILTO:info@yesmontreal.ca
END:VEVENT
END:VCALENDAR