BEGIN:VCALENDAR
VERSION:2.0
PRODID:-//YES Employment and Entrepreneurship - ECPv6.15.20//NONSGML v1.0//EN
CALSCALE:GREGORIAN
METHOD:PUBLISH
X-ORIGINAL-URL:https://yesmontreal.ca
X-WR-CALDESC:Events for YES Employment and Entrepreneurship
REFRESH-INTERVAL;VALUE=DURATION:PT1H
X-Robots-Tag:noindex
X-PUBLISHED-TTL:PT1H
BEGIN:VTIMEZONE
TZID:America/Toronto
BEGIN:DAYLIGHT
TZOFFSETFROM:-0500
TZOFFSETTO:-0400
TZNAME:EDT
DTSTART:20240310T070000
END:DAYLIGHT
BEGIN:STANDARD
TZOFFSETFROM:-0400
TZOFFSETTO:-0500
TZNAME:EST
DTSTART:20241103T060000
END:STANDARD
BEGIN:DAYLIGHT
TZOFFSETFROM:-0500
TZOFFSETTO:-0400
TZNAME:EDT
DTSTART:20250309T070000
END:DAYLIGHT
BEGIN:STANDARD
TZOFFSETFROM:-0400
TZOFFSETTO:-0500
TZNAME:EST
DTSTART:20251102T060000
END:STANDARD
BEGIN:DAYLIGHT
TZOFFSETFROM:-0500
TZOFFSETTO:-0400
TZNAME:EDT
DTSTART:20260308T070000
END:DAYLIGHT
BEGIN:STANDARD
TZOFFSETFROM:-0400
TZOFFSETTO:-0500
TZNAME:EST
DTSTART:20261101T060000
END:STANDARD
END:VTIMEZONE
BEGIN:VEVENT
DTSTART;TZID=America/Toronto:20250128T183000
DTEND;TZID=America/Toronto:20250128T203000
DTSTAMP:20260423T042140
CREATED:20241209T164640Z
LAST-MODIFIED:20250124T173718Z
UID:78020-1738089000-1738096200@yesmontreal.ca
SUMMARY:Sign Here: Avoiding Legal Pitfalls of Commercial Leases
DESCRIPTION:Avoid Legal Mistakes in Commercial Leases\n  \nAre you a business owner preparing to lease commercial space? Learn how to avoid legal mistakes in commercial leases by attending this comprehensive online workshop on Tuesday\, January 28\, from 6:30 PM to 8:30 PM. Led by Michael Simkin\, an experienced lawyer from SIMKIN LÉGAL\, this session will empower you with the knowledge to navigate the complexities of commercial lease agreements. \n\nWhy Understanding Commercial Leases Matters\nCommercial leases are significantly less regulated than residential leases\, making it essential to understand their intricacies. This workshop is tailored for entrepreneurs—whether you’re launching a startup\, expanding your business\, or renewing a lease—equipping you with the tools to make informed decisions that align with your goals. \n\nKey Topics Covered\nGain insights into avoiding common pitfalls and protecting your business interests. Topics include: \n\nAssessing Your Needs: Determine what to prioritize in a commercial space.\nUnderstanding Lease Terms: Decode the fine print to avoid surprises.\nNegotiating with Landlords: Learn effective communication and bargaining strategies.\nFinalizing the Deal: Ensure the agreement safeguards both parties’ interests.\n\n\nExpert Guidance for Informed Decisions\nMichael Simkin brings his extensive legal expertise to guide participants through the commercial leasing process. Learn how to spot red flags\, negotiate favorable terms\, and close a deal that suits your business while minimizing risk. \n\nReserve Your Spot Today\nFor just $20\, gain the confidence to navigate commercial leases effectively. Don’t miss this opportunity to avoid legal mistakes in commercial leases and safeguard your business’s future. \nPre-registration is required. This workshop is available online. \n  \nSign Up Here\n  \nAbout the speaker\nMichael Simkin has undergraduate degrees in law from McGill University and has been a member of the Barreau du Québec since 2007 and the Law Society of British Columbia since 2019. \nWith more than 15 years of experience in corporate governance\, particularly in the not-for-profit sector\, Michael has developed a deep understanding of corporations from a multitude of perspectives: as an owner\, an investor\, a board member\, an administrator\, an employee\, a union representative\, and as counsel. Michael is known for his leadership\, his expertise in community organizing\, his social entrepreneurship and his strong communications skills. Always looking to make a difference at the local level\, Michael continues to work with residents\, businesses and community groups to help them overcome challenges and realize their projects.  \nOnce you register for the online workshop\, you will receive an email with instructions on how to log in. If you haven’t received the email an hour before the workshop starts\, please check your Spam/Junk folder. \nTo learn more about our services for entrepreneurs\, click here. \n*This low registration fee is only possible thanks to our generous funders and partners.
URL:https://yesmontreal.ca/event/avoid-legal-mistakes-in-commercial-leases/
LOCATION:Online / Remote\, Canada
CATEGORIES:Entrepreneurship,Evening,Virtual
ORGANIZER;CN="YES Employment + Entrepreneurship":MAILTO:info@yesmontreal.ca
END:VEVENT
BEGIN:VEVENT
DTSTART;TZID=America/Toronto:20250128T183000
DTEND;TZID=America/Toronto:20250128T203000
DTSTAMP:20260423T042140
CREATED:20241210T155424Z
LAST-MODIFIED:20250123T145302Z
UID:78141-1738089000-1738096200@yesmontreal.ca
SUMMARY:Lights\, Camera\, Action: How to Grow Your Career as an Emerging Filmmaker
DESCRIPTION:  \nKickstart Your Career as an Emerging Filmmaker!\n  \nAre you ready to grow your career as an emerging filmmaker?  Join award-winning filmmaker Gavin Seal for an immersive online workshop designed to elevate your filmmaking career. Happening on Tuesday\, January 28\, from 6:30 PM to 8:30 PM\, this workshop is perfect for both beginners and seasoned creatives looking to navigate the film industry with confidence. \n\nWhat You’ll Learn\nDive deep into the world of filmmaking through three enlightening case studies: \n\nA $750 no-budget film: Learn the art of doing more with less.\nA self-financed $10\,000 project: Understand the challenges and rewards of personal investment.\nA $60\,000 grant-funded film: Discover the secrets to successful grant applications and leveraging funding.\n\n\nKey Topics Covered\nThis workshop will cover: \n\nGrant Writing: Learn how to craft compelling grant proposals to secure funding for your projects.\nPersonal Marketing: Build your personal brand to stand out in a competitive industry.\nFilm Markets\, Festivals\, and Awards: Navigate these crucial avenues to gain recognition.\nDistribution and Licensing: Unlock revenue opportunities and reach your audience effectively.\n\n\nWhy Attend?\nWhether you’re just starting out or have some experience\, this workshop will provide practical strategies for success. Gavin Seal’s expertise as an alumnus of prestigious programs like TIFF Lab and Netflix DOV Pitch Program ensures you’ll gain actionable insights to grow your career as an emerging filmmaker. \n  \nRegister Today!\nDon’t miss this opportunity to boost your filmmaking career. Register now and take the first step toward unlocking your full potential in the film industry! \nReserve Your Spot!\n  \nGuest speaker: Gavin Seal\, Award-Winning Filmmaker | Alumnus of TIFF Lab\, Netflix DOV Pitch Program\, Reelworld E20 Emerging Writer\, Fiction Toolbox Program at Berlinale’s EFM  \nAbout the speaker\nGavin Seal is a storyteller whose mission is to dissolve otherness using the universal language of cinema. His work as a writer/director includes the fiction films\, Followers (Fantasia\, Reelworld) and Case Claus’d (Montreal International Black Film Festival\, CBC Short Film Faceoff); the documentary\, Good Luck Have Fun (NSI\, Just for Laughs); and as segment director for the International Emmy and Canadian Screen Award-nominated TV series\, Interrupt this Program (CBC).  \nGavin is an alumnus of the TIFF Filmmaker Lab\, Berlinale Fiction Toolbox Programme at EFM\, Netflix Diversity of Voices Pitch Program initiative\, Reelworld E20 Writers program\, and the Nouveau Marché competition at the Festival du Nouveau Cinéma. The film is adapted from his own short film screenplay\, “Do Not Resuscitate” which won the Writers Guild of Canada prize at SODEC’s Sprint for your Script competition.  \nHis producer credits include show-running hundreds of episodes of branded series from development to distribution for Barbie\, Hot Wheels\, CBC\, Shopify\, HALO and Fisher-Price\, and films including\, The Long Way Home\, commissioned by Hot Docs and directed by Oscar-nominee Ariel Nasr and Aisha Jamal.  \nRegister now for our exclusive workshop designed to empower you as a filmmaker. Don’t miss the chance to elevate your skills and take your artistry to new heights. Secure your spot today for only $20.00!* \n  \nRegister Now!\n  \nPre-registration is required. This workshop is available online. \nOnce you register for the online workshop\, you will receive an email with instructions on how to log in. If you haven’t received the email an hour before the workshop starts\, please check your Spam/Junk folder. \nTo learn more about our services for Artists\, click here. \nThis low registration fee is only possible thanks to our generous funders and partners.
URL:https://yesmontreal.ca/event/grow-your-career-as-an-emerging-filmmaker/
LOCATION:Online / Remote\, Canada
CATEGORIES:Arts,Evening,Virtual
ORGANIZER;CN="YES Employment + Entrepreneurship":MAILTO:info@yesmontreal.ca
END:VEVENT
END:VCALENDAR