BEGIN:VCALENDAR
VERSION:2.0
PRODID:-//YES Employment and Entrepreneurship - ECPv6.15.20//NONSGML v1.0//EN
CALSCALE:GREGORIAN
METHOD:PUBLISH
X-ORIGINAL-URL:https://yesmontreal.ca
X-WR-CALDESC:Events for YES Employment and Entrepreneurship
REFRESH-INTERVAL;VALUE=DURATION:PT1H
X-Robots-Tag:noindex
X-PUBLISHED-TTL:PT1H
BEGIN:VTIMEZONE
TZID:America/Toronto
BEGIN:DAYLIGHT
TZOFFSETFROM:-0500
TZOFFSETTO:-0400
TZNAME:EDT
DTSTART:20250309T070000
END:DAYLIGHT
BEGIN:STANDARD
TZOFFSETFROM:-0400
TZOFFSETTO:-0500
TZNAME:EST
DTSTART:20251102T060000
END:STANDARD
BEGIN:DAYLIGHT
TZOFFSETFROM:-0500
TZOFFSETTO:-0400
TZNAME:EDT
DTSTART:20260308T070000
END:DAYLIGHT
BEGIN:STANDARD
TZOFFSETFROM:-0400
TZOFFSETTO:-0500
TZNAME:EST
DTSTART:20261101T060000
END:STANDARD
BEGIN:DAYLIGHT
TZOFFSETFROM:-0500
TZOFFSETTO:-0400
TZNAME:EDT
DTSTART:20270314T070000
END:DAYLIGHT
BEGIN:STANDARD
TZOFFSETFROM:-0400
TZOFFSETTO:-0500
TZNAME:EST
DTSTART:20271107T060000
END:STANDARD
END:VTIMEZONE
BEGIN:VEVENT
DTSTART;TZID=America/Toronto:20260602T183000
DTEND;TZID=America/Toronto:20260602T203000
DTSTAMP:20260420T010223
CREATED:20260204T215149Z
LAST-MODIFIED:20260204T221200Z
UID:93018-1780425000-1780432200@yesmontreal.ca
SUMMARY:From Lead to Close: Real Sales Skills That Deliver
DESCRIPTION:Unlock the sales skills that drive real business growth\nSales don’t have to feel pushy or intimidating. In this online workshop\, you’ll discover practical\, step-by-step techniques to confidently move from generating leads to closing deals. Whether you’re just starting out or want to strengthen your approach\, you’ll gain the tools you need to sell with authenticity and ease. Plus\, you’ll learn how to build trust at every stage of the process.  \nWhat you’ll learn\n\nHow to turn leads into loyal clients\nProven strategies to build trust and credibility\nClosing techniques that feel natural and effective\n\nWhy join this workshop?\nAs an entrepreneur\, having strong sales skills can unlock new growth and opportunities. Additionally\, this workshop will boost your confidence\, refine your pitch\, and help you approach sales in a way that works for you. By participating\, you will see how small changes can create big results.  \nReserve your spot today!\nDon’t miss this opportunity to strengthen your sales skills and take your business to the next level. Register now to secure your place! By the end of the session\, you will walk away ready to turn conversations into clients. \nSecure Your Spot!\n\n🔗 Register now and take your business to the next level! 🚀 \nAbout the speaker:\nChris Ramoutar\, Regional Lead – The Americas\, Alphanumeric Systems \nChris brings 20 years of work experience\, the majority in sales and people management. Holder of an MBA from Concordia University\, he has experience working in a range of industries thanks to years in the Contact Centre world. During his workshop\, expect to hear examples from Travel and Hospitality\, Telecommunications\, Start-ups\, Technology and now Pharmaceuticals as he draws from his most recent move into this space with Alphanumeric Systems. \n*Please Note: Pre-registration is required. This workshop is presented in English and is available as an online\, live streaming webinar only. \nOnce you have registered\, you will receive an email with instructions on how to log on a few hours prior to the start time of the workshop. Please check your Spam/Junk folder if you have not received your email with instructions one hour prior to the start time of the workshop.
URL:https://yesmontreal.ca/event/turn-leads-into-clients/
LOCATION:Online / Remote\, Canada
CATEGORIES:ELLEvate Women Entrepreneurs,Entrepreneurship,Evening,Virtual
ORGANIZER;CN="YES Employment + Entrepreneurship":MAILTO:info@yesmontreal.ca
END:VEVENT
END:VCALENDAR