BEGIN:VCALENDAR
VERSION:2.0
PRODID:-//YES Employment and Entrepreneurship - ECPv6.15.20//NONSGML v1.0//EN
CALSCALE:GREGORIAN
METHOD:PUBLISH
X-WR-CALNAME:YES Employment and Entrepreneurship
X-ORIGINAL-URL:https://yesmontreal.ca
X-WR-CALDESC:Events for YES Employment and Entrepreneurship
REFRESH-INTERVAL;VALUE=DURATION:PT1H
X-Robots-Tag:noindex
X-PUBLISHED-TTL:PT1H
BEGIN:VTIMEZONE
TZID:America/Toronto
BEGIN:DAYLIGHT
TZOFFSETFROM:-0500
TZOFFSETTO:-0400
TZNAME:EDT
DTSTART:20250309T070000
END:DAYLIGHT
BEGIN:STANDARD
TZOFFSETFROM:-0400
TZOFFSETTO:-0500
TZNAME:EST
DTSTART:20251102T060000
END:STANDARD
BEGIN:DAYLIGHT
TZOFFSETFROM:-0500
TZOFFSETTO:-0400
TZNAME:EDT
DTSTART:20260308T070000
END:DAYLIGHT
BEGIN:STANDARD
TZOFFSETFROM:-0400
TZOFFSETTO:-0500
TZNAME:EST
DTSTART:20261101T060000
END:STANDARD
BEGIN:DAYLIGHT
TZOFFSETFROM:-0500
TZOFFSETTO:-0400
TZNAME:EDT
DTSTART:20270314T070000
END:DAYLIGHT
BEGIN:STANDARD
TZOFFSETFROM:-0400
TZOFFSETTO:-0500
TZNAME:EST
DTSTART:20271107T060000
END:STANDARD
END:VTIMEZONE
BEGIN:VEVENT
DTSTART;TZID=America/Toronto:20260504T133000
DTEND;TZID=America/Toronto:20260504T153000
DTSTAMP:20260422T205737
CREATED:20251204T154853Z
LAST-MODIFIED:20251209T154833Z
UID:91515-1777901400-1777908600@yesmontreal.ca
SUMMARY:Jump Start Your Art + Financing Options
DESCRIPTION:  \nJump Start Your Art: Begin Your Journey to a Profitable Artistic Career\n  \nAre you ready to take your artistic passion to the next level and make a sustainable living from your creativity? Jump Start Your Art is the perfect workshop for artists who want to build a business or career around their talent but need guidance on how to get started. \n\nWhat You’ll Learn at Jump Start Your Art\nIn this free workshop\, we’ll introduce you to the essential tools\, resources\, and strategies for launching your artistic career. You’ll discover key services offered by YES and other arts organizations in the community\, as well as gain valuable insights into the arts industry. We’ll touch upon vital topics such as: \n\nIndustry Overview\nLearn about the arts industry landscape\, its challenges\, and opportunities for growth. \nMarketing and Promotion Tips\nUnderstand how to market your art effectively and reach a wider audience. \nBuilding Stakeholder Relationships\nDiscover the importance of cultivating relationships with galleries\, clients\, and collaborators. \nNavigating Funding and Grants\nGet essential tips on how to understand the funding landscape and write compelling grant proposals. \n\nPersonal Consultation for Artistic Growth\nAfter the workshop\, you’ll have the opportunity to meet one-on-one with an experienced artist coach who will help identify which services best suit your specific needs. Whether you’re a new artist or looking to grow your existing practice\, our artist coaching is designed to provide personalized guidance and actionable next steps. \nOne-on-One Artist Coaching\nA free 15-minute session with a YES Artist Coach is available for new clients to explore the services that can support your journey. Existing clients can use this time to address any small issues in their creative practice or business. \nPre-registration is required. Available as an in-person workshop. \n\nRegister Now\n  \nPlease Note: Those wishing to obtain artist coaching services are encouraged to attend this free workshop first.   \nOnce you have registered for the in-person workshop\, please arrive at the YES office\, located at 666 Sherbrooke Street West\, 7th floor\, 15–30 minutes before the workshop begins. \nTo learn more about our services for Artists\, click here. \nThis free workshop is only possible thanks to our generous funders and partners.
URL:https://yesmontreal.ca/event/jump-start-your-art-4/2026-05-04/
LOCATION:YES Employment + Entrepreneurship\, 666 Sherbrooke Street West 7th Floor\, Montreal\, Quebec\, H3A 1E7\, Canada
CATEGORIES:Artists,Arts,Daytime
ORGANIZER;CN="YES Employment + Entrepreneurship":MAILTO:info@yesmontreal.ca
END:VEVENT
BEGIN:VEVENT
DTSTART;TZID=America/Toronto:20260505T120000
DTEND;TZID=America/Toronto:20260505T130000
DTSTAMP:20260422T205737
CREATED:20250805T203023Z
LAST-MODIFIED:20260324T151902Z
UID:90854-1777982400-1777986000@yesmontreal.ca
SUMMARY:Career Check-In
DESCRIPTION:Book Your Free Career Check-In | Get Job Search Support in 15 Minutes\nSometimes\, all it takes is a quick conversation to get unstuck. Are you wondering if your CV is working\, do you need a cover letter\, are unsure how to answer a tricky interview question\, or just need a sounding board? These drop-in consults are your chance to get personalized\, no-pressure support—right on your lunch break. \nCareer Check-In sessions are a great way to get personalized\, fast\, and practical job search support without a long wait or big commitment. Whether you’re unsure if your resume is effective\, stuck on writing a cover letter\, preparing for an interview\, or just need guidance to move forward\, this 15-minute check-in could be exactly what you need. \nFast\, Focused\, Personalized Help\nCareer Check-Ins are offered on select Tuesdays and Thursdays from 12:00 PM–1:00 PM. Appointments are designed to fit into your lunch hour. Our employment experts will meet with you one-on-one to address your specific questions and concerns. It’s a chance to get tailored advice on job search strategies\, applications\, interview prep\, and more. \nOpen to All Job Seekers\nThis service is free and open to all job seekers. Whether you’re just getting started\, transitioning into a new field\, or stuck in a rut. A quick conversation can go a long way in giving you clarity and motivation to take your next steps with confidence. \nBook your free Career Check-In and take a small but powerful step forward in your job search journey today. \nPre-registration is required.  \n💡 Important: These sessions are open to Quebec residents only. \nSpaces are limited\, and booking is required. \nFor more information or to reserve your spot\, email us. \nFind out more about our Employment Services here. \n*We are located at 666 Sherbrooke Street West\, 7th floor.
URL:https://yesmontreal.ca/event/get-job-search-support-in-15-minutes/2026-05-05/
LOCATION:Online / Remote\, Canada
CATEGORIES:Daytime,Employment
ORGANIZER;CN="YES Employment + Entrepreneurship":MAILTO:info@yesmontreal.ca
END:VEVENT
BEGIN:VEVENT
DTSTART;TZID=America/Toronto:20260507T120000
DTEND;TZID=America/Toronto:20260507T130000
DTSTAMP:20260422T205737
CREATED:20250805T203023Z
LAST-MODIFIED:20260324T151906Z
UID:90855-1778155200-1778158800@yesmontreal.ca
SUMMARY:Career Check-In
DESCRIPTION:Book Your Free Career Check-In | Get Job Search Support in 15 Minutes\nSometimes\, all it takes is a quick conversation to get unstuck. Are you wondering if your CV is working\, do you need a cover letter\, are unsure how to answer a tricky interview question\, or just need a sounding board? These drop-in consults are your chance to get personalized\, no-pressure support—right on your lunch break. \nCareer Check-In sessions are a great way to get personalized\, fast\, and practical job search support without a long wait or big commitment. Whether you’re unsure if your resume is effective\, stuck on writing a cover letter\, preparing for an interview\, or just need guidance to move forward\, this 15-minute check-in could be exactly what you need. \nFast\, Focused\, Personalized Help\nCareer Check-Ins are offered on select Tuesdays and Thursdays from 12:00 PM–1:00 PM. Appointments are designed to fit into your lunch hour. Our employment experts will meet with you one-on-one to address your specific questions and concerns. It’s a chance to get tailored advice on job search strategies\, applications\, interview prep\, and more. \nOpen to All Job Seekers\nThis service is free and open to all job seekers. Whether you’re just getting started\, transitioning into a new field\, or stuck in a rut. A quick conversation can go a long way in giving you clarity and motivation to take your next steps with confidence. \nBook your free Career Check-In and take a small but powerful step forward in your job search journey today. \nPre-registration is required.  \n💡 Important: These sessions are open to Quebec residents only. \nSpaces are limited\, and booking is required. \nFor more information or to reserve your spot\, email us. \nFind out more about our Employment Services here. \n*We are located at 666 Sherbrooke Street West\, 7th floor.
URL:https://yesmontreal.ca/event/get-job-search-support-in-15-minutes/2026-05-07/
LOCATION:Online / Remote\, Canada
CATEGORIES:Daytime,Employment
ORGANIZER;CN="YES Employment + Entrepreneurship":MAILTO:info@yesmontreal.ca
END:VEVENT
BEGIN:VEVENT
DTSTART;TZID=America/Toronto:20260508T120000
DTEND;TZID=America/Toronto:20260508T130000
DTSTAMP:20260422T205737
CREATED:20250805T203023Z
LAST-MODIFIED:20260324T151910Z
UID:91844-1778241600-1778245200@yesmontreal.ca
SUMMARY:Career Check-In
DESCRIPTION:Book Your Free Career Check-In | Get Job Search Support in 15 Minutes\nSometimes\, all it takes is a quick conversation to get unstuck. Are you wondering if your CV is working\, do you need a cover letter\, are unsure how to answer a tricky interview question\, or just need a sounding board? These drop-in consults are your chance to get personalized\, no-pressure support—right on your lunch break. \nCareer Check-In sessions are a great way to get personalized\, fast\, and practical job search support without a long wait or big commitment. Whether you’re unsure if your resume is effective\, stuck on writing a cover letter\, preparing for an interview\, or just need guidance to move forward\, this 15-minute check-in could be exactly what you need. \nFast\, Focused\, Personalized Help\nCareer Check-Ins are offered on select Tuesdays and Thursdays from 12:00 PM–1:00 PM. Appointments are designed to fit into your lunch hour. Our employment experts will meet with you one-on-one to address your specific questions and concerns. It’s a chance to get tailored advice on job search strategies\, applications\, interview prep\, and more. \nOpen to All Job Seekers\nThis service is free and open to all job seekers. Whether you’re just getting started\, transitioning into a new field\, or stuck in a rut. A quick conversation can go a long way in giving you clarity and motivation to take your next steps with confidence. \nBook your free Career Check-In and take a small but powerful step forward in your job search journey today. \nPre-registration is required.  \n💡 Important: These sessions are open to Quebec residents only. \nSpaces are limited\, and booking is required. \nFor more information or to reserve your spot\, email us. \nFind out more about our Employment Services here. \n*We are located at 666 Sherbrooke Street West\, 7th floor.
URL:https://yesmontreal.ca/event/get-job-search-support-in-15-minutes/2026-05-08/
LOCATION:Online / Remote\, Canada
CATEGORIES:Daytime,Employment
ORGANIZER;CN="YES Employment + Entrepreneurship":MAILTO:info@yesmontreal.ca
END:VEVENT
BEGIN:VEVENT
DTSTART;TZID=America/Toronto:20260512T120000
DTEND;TZID=America/Toronto:20260512T133000
DTSTAMP:20260422T205737
CREATED:20251125T213709Z
LAST-MODIFIED:20251125T214331Z
UID:90897-1778587200-1778592600@yesmontreal.ca
SUMMARY:Career & Self-Assessment: Know Yourself to Develop Yourself
DESCRIPTION:Career & Self-Assessment: Know Yourself to Develop Yourself\nBefore you can confidently market yourself to employers\, you need to truly understand yourself. This session is designed to help you build self-awareness around your strengths\, interests\, values\, and personality traits. These are key elements that impact not only how you show up in the job search\, but also your satisfaction and success at work. \nYour professional identity is a key factor in shaping your self-confidence\, well-being\, and long-term career success. Making informed career decisions that align with your personal aspirations\, values\, and strengths is essential for building a fulfilling and purpose-driven career. But how do you uncover what truly drives you and turn those insights into actionable steps? \nStart with You\nCareer & Self-Assessment: Know Yourself to Develop Yourself is designed to help you take control by starting with the most important factor—you. Through guided self-assessment exercises\, you’ll identify your professional values\, interests\, personality traits\, and skills. This will give you the clarity and direction needed to navigate your next move confidently. \nPractical Tools for Meaningful Progress\nBeyond self-assessment\, this session introduces practical tools like decision trees and informational interviews to help you make thoughtful and well-informed career decisions. Whether you’re at the start of your career\, contemplating a career change\, or looking to advance in your current path\, these strategies will empower you to translate your unique qualities into actionable career insights. \nWhat You’ll Gain\nBy participating in this session\, you’ll: \n\nUnderstand how your personal and professional identity influences career satisfaction.\nGain clarity on your values\, skills\, and aspirations through targeted self-assessment.\nLearn practical decision-making tools to evaluate career opportunities.\nReflect\, strategize\, and set a course for success\n\n\nEngage and Take Action\nCareer & Self-Assessment: Know Yourself to Develop Yourself will conclude with a 30-minute Q&A. You will also have an opportunity to book a one-on-one appointment with an Employment Counsellor. Limited spots available! \nJoin us and learn how to align your career with your authentic self. \n  \nRegister today \ngain valuable insights and shape your future with confidence. \nPre-registration is required. \nSign Up Here\n  \nThis workshop is available as an online\, live-streaming webinar and is available in English. \nOnce you have registered\, you will receive an email with instructions on how to log on a few hours prior to the start time of the workshop. Please check your Spam/Junk folder if you have not received your email with instructions 1 hour prior to the start time of the workshop. \nFind out more about our services for job seekers here. \nThe Community Empowerment Literacy Initiative (CELI) is sponsored by TALQ in collaboration with Literacy Quebec and funded in part by the Government of Canada’s Skills for Success Program.
URL:https://yesmontreal.ca/event/career-self-assessment-2/2026-05-12/
LOCATION:Online / Remote\, Canada
CATEGORIES:Employment
ORGANIZER;CN="YES Employment + Entrepreneurship":MAILTO:info@yesmontreal.ca
END:VEVENT
BEGIN:VEVENT
DTSTART;TZID=America/Toronto:20260519T120000
DTEND;TZID=America/Toronto:20260519T130000
DTSTAMP:20260422T205737
CREATED:20250805T203023Z
LAST-MODIFIED:20260324T151915Z
UID:90856-1779192000-1779195600@yesmontreal.ca
SUMMARY:Career Check-In
DESCRIPTION:Book Your Free Career Check-In | Get Job Search Support in 15 Minutes\nSometimes\, all it takes is a quick conversation to get unstuck. Are you wondering if your CV is working\, do you need a cover letter\, are unsure how to answer a tricky interview question\, or just need a sounding board? These drop-in consults are your chance to get personalized\, no-pressure support—right on your lunch break. \nCareer Check-In sessions are a great way to get personalized\, fast\, and practical job search support without a long wait or big commitment. Whether you’re unsure if your resume is effective\, stuck on writing a cover letter\, preparing for an interview\, or just need guidance to move forward\, this 15-minute check-in could be exactly what you need. \nFast\, Focused\, Personalized Help\nCareer Check-Ins are offered on select Tuesdays and Thursdays from 12:00 PM–1:00 PM. Appointments are designed to fit into your lunch hour. Our employment experts will meet with you one-on-one to address your specific questions and concerns. It’s a chance to get tailored advice on job search strategies\, applications\, interview prep\, and more. \nOpen to All Job Seekers\nThis service is free and open to all job seekers. Whether you’re just getting started\, transitioning into a new field\, or stuck in a rut. A quick conversation can go a long way in giving you clarity and motivation to take your next steps with confidence. \nBook your free Career Check-In and take a small but powerful step forward in your job search journey today. \nPre-registration is required.  \n💡 Important: These sessions are open to Quebec residents only. \nSpaces are limited\, and booking is required. \nFor more information or to reserve your spot\, email us. \nFind out more about our Employment Services here. \n*We are located at 666 Sherbrooke Street West\, 7th floor.
URL:https://yesmontreal.ca/event/get-job-search-support-in-15-minutes/2026-05-19/
LOCATION:Online / Remote\, Canada
CATEGORIES:Daytime,Employment
ORGANIZER;CN="YES Employment + Entrepreneurship":MAILTO:info@yesmontreal.ca
END:VEVENT
BEGIN:VEVENT
DTSTART;TZID=America/Toronto:20260522T120000
DTEND;TZID=America/Toronto:20260522T130000
DTSTAMP:20260422T205737
CREATED:20250805T203023Z
LAST-MODIFIED:20260324T151922Z
UID:91845-1779451200-1779454800@yesmontreal.ca
SUMMARY:Career Check-In
DESCRIPTION:Book Your Free Career Check-In | Get Job Search Support in 15 Minutes\nSometimes\, all it takes is a quick conversation to get unstuck. Are you wondering if your CV is working\, do you need a cover letter\, are unsure how to answer a tricky interview question\, or just need a sounding board? These drop-in consults are your chance to get personalized\, no-pressure support—right on your lunch break. \nCareer Check-In sessions are a great way to get personalized\, fast\, and practical job search support without a long wait or big commitment. Whether you’re unsure if your resume is effective\, stuck on writing a cover letter\, preparing for an interview\, or just need guidance to move forward\, this 15-minute check-in could be exactly what you need. \nFast\, Focused\, Personalized Help\nCareer Check-Ins are offered on select Tuesdays and Thursdays from 12:00 PM–1:00 PM. Appointments are designed to fit into your lunch hour. Our employment experts will meet with you one-on-one to address your specific questions and concerns. It’s a chance to get tailored advice on job search strategies\, applications\, interview prep\, and more. \nOpen to All Job Seekers\nThis service is free and open to all job seekers. Whether you’re just getting started\, transitioning into a new field\, or stuck in a rut. A quick conversation can go a long way in giving you clarity and motivation to take your next steps with confidence. \nBook your free Career Check-In and take a small but powerful step forward in your job search journey today. \nPre-registration is required.  \n💡 Important: These sessions are open to Quebec residents only. \nSpaces are limited\, and booking is required. \nFor more information or to reserve your spot\, email us. \nFind out more about our Employment Services here. \n*We are located at 666 Sherbrooke Street West\, 7th floor.
URL:https://yesmontreal.ca/event/get-job-search-support-in-15-minutes/2026-05-22/
LOCATION:Online / Remote\, Canada
CATEGORIES:Daytime,Employment
ORGANIZER;CN="YES Employment + Entrepreneurship":MAILTO:info@yesmontreal.ca
END:VEVENT
BEGIN:VEVENT
DTSTART;TZID=America/Toronto:20260525T133000
DTEND;TZID=America/Toronto:20260525T153000
DTSTAMP:20260422T205737
CREATED:20241216T185732Z
LAST-MODIFIED:20241216T185732Z
UID:91473-1779715800-1779723000@yesmontreal.ca
SUMMARY:Jump Start Your Art + Financing Options
DESCRIPTION:  \nJump Start Your Art: Begin Your Journey to a Profitable Artistic Career\n  \nAre you ready to take your artistic passion to the next level and make a sustainable living from your creativity? Jump Start Your Art is the perfect workshop for artists who want to build a business or career around their talent but need guidance on how to get started. \n\nWhat You’ll Learn at Jump Start Your Art\nIn this free workshop\, we’ll introduce you to the essential tools\, resources\, and strategies for launching your artistic career. You’ll discover key services offered by YES and other arts organizations in the community\, as well as gain valuable insights into the arts industry. We’ll touch upon vital topics such as: \n\nIndustry Overview\nLearn about the arts industry landscape\, its challenges\, and opportunities for growth. \nMarketing and Promotion Tips\nUnderstand how to market your art effectively and reach a wider audience. \nBuilding Stakeholder Relationships\nDiscover the importance of cultivating relationships with galleries\, clients\, and collaborators. \nNavigating Funding and Grants\nGet essential tips on how to understand the funding landscape and write compelling grant proposals. \n\nPersonal Consultation for Artistic Growth\nAfter the workshop\, you’ll have the opportunity to meet one-on-one with an experienced artist coach who will help identify which services best suit your specific needs. Whether you’re a new artist or looking to grow your existing practice\, our artist coaching is designed to provide personalized guidance and actionable next steps. \nOne-on-One Artist Coaching\nA free 15-minute session with a YES Artist Coach is available for new clients to explore the services that can support your journey. Existing clients can use this time to address any small issues in their creative practice or business. \nPre-registration is required. Available in English and as an online\, live-streaming webinar. \n\nRegister Now\n  \nPlease Note: Those wishing to obtain artist coaching services are encouraged to attend this free workshop first.   \nOnce you register for the online workshop\, you will receive an email with instructions on how to log in. If you haven’t received the email an hour before the workshop starts\, please check your Spam/Junk folder. \nTo learn more about our services for Artists\, click here. \nThis free workshop is only possible thanks to our generous funders and partners.
URL:https://yesmontreal.ca/event/jump-start-your-art-2/2026-05-25/
LOCATION:Online / Remote\, Canada
CATEGORIES:Artists,Arts,Daytime,Virtual
ORGANIZER;CN="YES Employment + Entrepreneurship":MAILTO:info@yesmontreal.ca
END:VEVENT
BEGIN:VEVENT
DTSTART;TZID=America/Toronto:20260526T120000
DTEND;TZID=America/Toronto:20260526T133000
DTSTAMP:20260422T205737
CREATED:20250806T173141Z
LAST-MODIFIED:20250806T173141Z
UID:91059-1779796800-1779802200@yesmontreal.ca
SUMMARY:NEW! LinkedIn Essentials: Build Your Presence and Connections
DESCRIPTION:Boost Your LinkedIn Profile and Attract Job Opportunities\nBoost your LinkedIn profile and attract job opportunities by joining this interactive and informative workshop tailored for today’s job seekers. \nIn today’s job market\, LinkedIn is one of the most powerful tools for job seekers. Whether you’re a recent graduate\, career changer\, or seasoned professional\, your LinkedIn profile can serve as your digital first impression. But is your profile working for you—or against you? \nThis session is designed to help you boost your LinkedIn profile and attract recruiters\, employers\, and industry professionals. You’ll learn how to strategically enhance key sections\, including your headline\, About section\, and Experience section\, to stand out in searches and showcase your unique skills and expertise. \nWhy Your LinkedIn Profile Matters\nLinkedIn acts as your digital handshake. It’s often the first point of contact for employers\, recruiters\, and professional peers. But is your profile doing enough to represent your skills\, value\, and potential? \nWhat You’ll Learn\nIn addition to strengthening your profile\, this session will teach you the importance of building a strong professional network. Discover how to connect with industry leaders\, hiring managers\, and peers in meaningful ways to expand your reach and uncover job opportunities in both visible and hidden job markets. \nSession highlights include essential LinkedIn strategies every job seeker needs to know: \n\n\n\nCrafting a standout headline\nWriting a compelling About section\nShowcasing your experience with purpose\nBuilding meaningful connections\nUsing search tools effectively\nPositioning yourself to show up in recruiter searches\n\n\n\nInteractive Q&A and Support\nThe session wraps up with a 30-minute Q&A and an exclusive opportunity to book a one-on-one appointment with an Employment Counsellor. (Limited spots available!) \nWhether you’re entering a new field or just want to sharpen your online presence\, this workshop is for you. Boost your LinkedIn profile and attract job opportunities—and take control of your career path today. \nPre-registration is required. \nSign Up Here\nThis workshop is available as an online\, live-streaming webinar. This workshop is available in English. \nOnce you have registered\, you will receive an email with instructions on how to log on a few hours prior to the start time of the workshop. Please check your Spam/Junk folder if you have not received your email with instructions 1 hour prior to the start time of the workshop. \nFind out more about our services for job seekers here. \nThe Community Empowerment Literacy Initiative (CELI) is sponsored by TALQ in collaboration with Literacy Quebec and funded in part by the Government of Canada’s Skills for Success Program.
URL:https://yesmontreal.ca/event/boost-your-linkedin-profile-and-attract-job-opportunities/2026-05-26/
LOCATION:Online / Remote\, Canada
CATEGORIES:Daytime,Employment
ORGANIZER;CN="YES Employment + Entrepreneurship":MAILTO:info@yesmontreal.ca
END:VEVENT
BEGIN:VEVENT
DTSTART;TZID=America/Toronto:20260528T120000
DTEND;TZID=America/Toronto:20260528T133000
DTSTAMP:20260422T205737
CREATED:20250806T190718Z
LAST-MODIFIED:20250806T190718Z
UID:91072-1779969600-1779975000@yesmontreal.ca
SUMMARY:NEW! Interview Essentials: Clear. Confident. Prepared.
DESCRIPTION:Ace Your Next Interview With Confidence — Register for Interview Essentials Now\nAce your next interview with confidence by registering for our dynamic workshop\, Interview Essentials: Clear. Confident. Prepared. Whether you’re a first-time job seeker\, pivoting careers\, or aiming for advancement\, this session will help you develop the skills and mindset needed to stand out from the competition and land your next role. \nMaster Interviews with Strategy and Confidence\nNavigating job interviews can be challenging\, no matter your experience level. The pressure to make a lasting impression on a potential employer can feel nerve-wracking\, especially when competition is fierce. However\, with the right preparation and mindset\, you can confidently turn interviews into opportunities to shine and land the job you want. \nLearn the STAR Method\nWe will look at the STAR method\, a proven technique for answering both behavioral and competency-based interview questions in a structured\, focused way that highlights your competencies across technical\, hard\, and soft skills\, while bringing real examples of your strengths and problem-solving abilities to life. \nWhat You’ll Gain\nThis 90-minute session is designed to equip you with essential strategies to help you prepare effectively\, speak directly to the job description and company needs\, and articulate your experience\, skills\, and accomplishments with clarity and relevance. \nWhether you’re preparing for your first interview\, transitioning into a new field\, or seeking advancement in your career\, this session will help you: \n\nBe prepared and focused\nLearn to clearly and effectively share your professional achievements\nIncrease confidence by harnessing the STAR method\nImmediately highlight success and value\n\nMake a strong and lasting impression on potential employers \nThis workshop is not just about answering questions—it’s about building your confidence\, presenting yourself authentically\, and showcasing the value you bring to any role. Ace your next interview with confidence and walk into your next opportunity feeling prepared and empowered. \nThis 90-minute session will wrap up with a 30-minute Q&A and an opportunity to book a one-on-one appointment with an Employment Counsellor. (Limited spots available!) \nPre-registration is required. \nSign Up Here\nThis workshop is available as an online\, live-streaming webinar. This workshop is available in English. \nOnce you have registered\, you will receive an email with instructions on how to log on a few hours prior to the start time of the workshop. Please check your Spam/Junk folder if you have not received your email with instructions 1 hour prior to the start time of the workshop. \nFind out more about our services for job seekers here. \nThe Community Empowerment Literacy Initiative (CELI) is sponsored by TALQ in collaboration with Literacy Quebec and funded in part by the Government of Canada’s Skills for Success Program.
URL:https://yesmontreal.ca/event/ace-your-next-interview-with-confidence/2026-05-28/
LOCATION:Online / Remote\, Canada
CATEGORIES:Daytime,Employment
ORGANIZER;CN="YES Employment + Entrepreneurship":MAILTO:info@yesmontreal.ca
END:VEVENT
END:VCALENDAR