BEGIN:VCALENDAR
VERSION:2.0
PRODID:-//YES Employment and Entrepreneurship - ECPv6.15.20//NONSGML v1.0//EN
CALSCALE:GREGORIAN
METHOD:PUBLISH
X-WR-CALNAME:YES Employment and Entrepreneurship
X-ORIGINAL-URL:https://yesmontreal.ca
X-WR-CALDESC:Events for YES Employment and Entrepreneurship
REFRESH-INTERVAL;VALUE=DURATION:PT1H
X-Robots-Tag:noindex
X-PUBLISHED-TTL:PT1H
BEGIN:VTIMEZONE
TZID:America/Toronto
BEGIN:DAYLIGHT
TZOFFSETFROM:-0500
TZOFFSETTO:-0400
TZNAME:EDT
DTSTART:20250309T070000
END:DAYLIGHT
BEGIN:STANDARD
TZOFFSETFROM:-0400
TZOFFSETTO:-0500
TZNAME:EST
DTSTART:20251102T060000
END:STANDARD
BEGIN:DAYLIGHT
TZOFFSETFROM:-0500
TZOFFSETTO:-0400
TZNAME:EDT
DTSTART:20260308T070000
END:DAYLIGHT
BEGIN:STANDARD
TZOFFSETFROM:-0400
TZOFFSETTO:-0500
TZNAME:EST
DTSTART:20261101T060000
END:STANDARD
BEGIN:DAYLIGHT
TZOFFSETFROM:-0500
TZOFFSETTO:-0400
TZNAME:EDT
DTSTART:20270314T070000
END:DAYLIGHT
BEGIN:STANDARD
TZOFFSETFROM:-0400
TZOFFSETTO:-0500
TZNAME:EST
DTSTART:20271107T060000
END:STANDARD
END:VTIMEZONE
BEGIN:VEVENT
DTSTART;TZID=America/Toronto:20260420T100000
DTEND;TZID=America/Toronto:20260420T133000
DTSTAMP:20260419T205111
CREATED:20240813T185026Z
LAST-MODIFIED:20251203T204333Z
UID:91366-1776679200-1776691800@yesmontreal.ca
SUMMARY:Legal Information Clinic
DESCRIPTION:Free Legal Information Clinics for Entrepreneurs\nAre you an entrepreneur with legal questions? Our free weekly Legal Information Clinics for Entrepreneurs provide essential information on key legal topics such as business structures\, contract law\, taxation\, intellectual property\, and more. Whether you’re just starting out or managing a growing business\, these clinics help you navigate the legal aspects of entrepreneurship with clarity. \nWhy Legal Knowledge is Crucial for Entrepreneurs\nLegal challenges can become significant barriers to business success. From choosing the right business structure to understanding tax obligations\, having a clear understanding of your legal options can save you time and prevent costly mistakes. Addressing legal matters early on helps you reduce risks and focus on growing your business with confidence. The Legal Information Officer at YES is available to help you research your legal questions\, empowering you to make informed decisions. They can provide valuable information on topics like business structures\, contracts\, intellectual property\, and more\, pointing you to helpful resources tailored to your needs. \nWhether you need help understanding contracts\, interpreting clauses\, or preparing for future legal discussions\, the Legal Information Officer is here to support you. Having a strong grasp of the legal side of your business is essential for long-term success. Our clinics offer the insights you need to make informed decisions and avoid common legal pitfalls. The Legal Information Officer can also serve as a sounding board for your ideas\, helping you figure out the next steps. If you’re planning to consult with a lawyer\, they can assist you in preparing your questions\, ensuring you’re ready for a productive meeting. \n🎥 Watch this video for a sneak peek at what you can expect! \nhttps://yesmontreal.ca/wp-content/uploads/Legal_Clinic_Expectations_Ready-1.mp4\n  \nClinic Details & How to Register\n\nSpeaker: Jessica Ling\, Legal Information Officer\nTo register: Contact us\nPre-booking required: Clinics must be pre-booked.\nReferral required: A YES Business Coach referral is required.\n\nNote: Clinics are by appointment only\, so make sure to book your spot in advance. \nAdditional Services for Just $30 Annually\nFor just $30 annually\, you can access a wide range of valuable services\, including: \n\nCoaching\nBusiness Bootcamp\nLegal Information & Accounting Clinics\nAnd much more!\n\nTo learn more about our other services\, visit our Business Bootcamp or Coaching Services pages.
URL:https://yesmontreal.ca/event/legal-information-clinic-for-entrepreneurs-4-2/2026-04-20/
LOCATION:Online / Remote\, Canada
CATEGORIES:Daytime,Entrepreneurship
ORGANIZER;CN="YES Employment + Entrepreneurship":MAILTO:info@yesmontreal.ca
END:VEVENT
BEGIN:VEVENT
DTSTART;TZID=America/Toronto:20260422T140000
DTEND;TZID=America/Toronto:20260422T153000
DTSTAMP:20260419T205111
CREATED:20241203T220451Z
LAST-MODIFIED:20241203T220451Z
UID:91185-1776866400-1776871800@yesmontreal.ca
SUMMARY:Maximize Your Revenue Potential
DESCRIPTION:  \nUnlock Your Business’s Revenue Potential!\n  \nDid you know there are 26 revenue models for entrepreneurs you can leverage to grow your business? Join this free workshop designed for entrepreneurs and small-to-medium enterprises (SMEs) who want to broaden their revenue strategies and secure financial success. \nIn this exclusive session\, you’ll gain a comprehensive understanding of 26 revenue models for entrepreneurs. These models range from subscription-based approaches and affiliate marketing to contract manufacturing and beyond. This knowledge equips you with the tools to make informed decisions\, create multiple revenue streams\, and fortify your business’s financial foundation. \n  \nWhat to Expect from the Workshop\n  \n\nExplore 26 unique revenue models tailored to different industries.\nDiscover how to implement strategies like subscription services\, affiliate marketing\, and more.\nLearn practical techniques to optimize and diversify your revenue streams.\n\n  \nThis workshop demystifies the complexities of revenue generation\, offering actionable insights and strategies to help you take your business to the next level. Whether you’re a startup founder or an SME owner looking to boost profitability\, this session is your blueprint for financial growth. \n  \nBy the end\, you’ll leave with the confidence and tools to maximize your revenue potential and drive long-term success. \n  \nMaximize Your Revenue\, and Maximize Your Success!\n  \nRegister for this workshop and equip yourself with the tools you need to make informed decisions and jump-start your business! \n  \nSign Up Here\n\n\n\nPre-registration is required. This workshop is available as an online\, live-streaming webinar. \nOnce you register for the online workshop\, you will receive an email with instructions on how to log in. If you haven’t received the email an hour before the workshop starts\, please check your Spam/Junk folder. \nTo learn more about our services for entrepreneurs\, click here.
URL:https://yesmontreal.ca/event/revenue-models-for-entrepreneurs-3/2026-04-22/
LOCATION:Online / Remote\, Canada
CATEGORIES:Daytime,Entrepreneurship,Virtual
ORGANIZER;CN="YES Employment + Entrepreneurship":MAILTO:info@yesmontreal.ca
END:VEVENT
BEGIN:VEVENT
DTSTART;TZID=America/Toronto:20260428T183000
DTEND;TZID=America/Toronto:20260428T203000
DTSTAMP:20260419T205111
CREATED:20250925T144944Z
LAST-MODIFIED:20260414T210141Z
UID:89285-1777401000-1777408200@yesmontreal.ca
SUMMARY:Crafting Content with Purpose: How to Create Value & Build An Audience
DESCRIPTION:Create Content That Connects – Learn to Build Trust and Engage Your Audience\nCreate content that connects and stops your audience mid-scroll! Join us on Tuesday\, April 28\, for an inspiring online seminar with Marlee Rabin\, a Private Aviation Interior Specialist at Maison Lipari\, who has created viral TikTok videos with over 15 million views. \nWhy This Workshop Matters\nIn today’s fast-paced digital world\, grabbing attention is harder than ever. This workshop will show you how to use short-form video content to create meaningful connections with your audience. You’ll discover how to build trust\, share real value\, and craft content that speaks directly to the people you want to reach. \nWhat You’ll Learn\n\nHow to create short-form video content that delivers genuine value\nTechniques to build trust and keep your audience engaged\nStrategies for connecting your content to your business goals\nTips from Marlee’s experience building viral TikTok videos\n\nWho Should Attend\nWhether you’re a business owner\, creative professional\, or entrepreneur\, you’ll leave with practical strategies to create content that supports your growth and helps you stand out online. \nEvent Details\nDate: Tuesday\, April 28\nFormat: Online seminar (presented in English)\nSpeaker: Marlee Rabin\, Private Aviation Interior Specialist @ Maison Lipari\nPre-registration is required. \nWhy You Shouldn’t Miss This\nThis session will help you move beyond just posting content for the sake of it. Learn how to craft videos that engage\, resonate\, and create loyal audiences who trust your message. \nPre-registration is required. This workshop is available in English and is online. \nSign Up Here\n\nAbout the speaker\nMarlee Rabin is a McGill University business graduate with a background in fashion\, marketing\, and entrepreneurship. She curates and outfits private aircrafts and luxury homes\, focusing on delivering an exceptional experience for each client.  \nWith over a decade of experience in brand strategy\, premium retail\, and e-commerce\, Marlee also has a proven track record in creating viral social media content\, including TikTok videos that have garnered over 15 million views. She combines creativity with a deep understanding of client service to drive lasting impact across both digital and physical spaces.    \n Once you register for the online workshop\, you will receive an email with instructions on how to log in. If you haven’t received the email an hour before the workshop starts\, please check your Spam/Junk folder. \nTo learn more about our services for entrepreneurs\, click here. \nThis low registration fee is only possible thanks to our generous funders and partners. \nThe Community Empowerment Literacy Initiative (CELI) is sponsored by TALQ in collaboration with Literacy Quebec and funded in part by the Government of Canada’s Skills for Success Program.
URL:https://yesmontreal.ca/event/learn-to-build-trust-and-engage-your-audience/
LOCATION:Online / Remote\, Canada
CATEGORIES:Entrepreneurship,Evening,Virtual,Women Entrepreneurship
ORGANIZER;CN="YES Employment + Entrepreneurship":MAILTO:info@yesmontreal.ca
END:VEVENT
BEGIN:VEVENT
DTSTART;TZID=America/Toronto:20260429T140000
DTEND;TZID=America/Toronto:20260429T153000
DTSTAMP:20260419T205111
CREATED:20241204T164518Z
LAST-MODIFIED:20241204T164518Z
UID:91127-1777471200-1777476600@yesmontreal.ca
SUMMARY:Financing Options for Your Business
DESCRIPTION:  \nUnlock the Secrets to Securing Business Funding\n  \nAre you an entrepreneur with big dreams and bold ideas but uncertain about how to secure the funding for your business? Join our free workshop\, Financing Options for Your Business\, and gain the tools and insights to turn your vision into a reality. \nThis session is designed to help entrepreneurs explore various funding opportunities and build the confidence to craft investment-worthy proposals. Learn how to navigate different funding channels\, from traditional loans and grants to venture capital and crowdfunding. We will also be uncovering what investors and lenders are really looking for. \n  \nWhat You’ll Gain from This Workshop\n  \n\nHow to identify the best funding sources for your business.\nStrategies for crafting compelling investment proposals.\nKey insights into what makes a business attractive to investors.\n\n  \nThis workshop provides practical advice and actionable steps to secure the financial support your business needs. Whether you’re launching a new venture or looking to grow an existing one\, this session equips you with the knowledge to confidently approach investors\, lenders\, and other funding sources. \nBy the end of this workshop\, you’ll be prepared to take the next step in your entrepreneurial journey with a clearer understanding of your financing options. \n  \nTake the First Step in Securing Funding for Your Business\n  \nDon’t let funding hold your dreams back. Register now and take charge of your business’s future! \n  \nSign Up Here\n  \nPre-registration is required. This workshop is available in English\, in person as well as as an online\, live-streaming webinar. \nIf you registered for the in-person workshop\, please arrive at the YES office\, located at 666 Sherbrooke Street West\, 7th floor\, 15–30 minutes before the workshop begins. \nFor online participants\, you will receive an email with login instructions a few hours before the workshop starts. If you don’t see the email one hour before the start time\, please check your Spam or Junk folder. \nTo learn more about our services for entrepreneurs\, click here.
URL:https://yesmontreal.ca/event/secure-funding-for-your-business-2/2026-04-29/
LOCATION:YES Employment + Entrepreneurship\, 666 Sherbrooke Street West 7th Floor\, Montreal\, Quebec\, H3A 1E7\, Canada
CATEGORIES:Daytime,Entrepreneurship,Virtual
ORGANIZER;CN="YES Employment + Entrepreneurship":MAILTO:info@yesmontreal.ca
END:VEVENT
BEGIN:VEVENT
DTSTART;TZID=America/Toronto:20260430T180000
DTEND;TZID=America/Toronto:20260430T203000
DTSTAMP:20260419T205111
CREATED:20231212T214125Z
LAST-MODIFIED:20260318T184312Z
UID:91266-1777572000-1777581000@yesmontreal.ca
SUMMARY:The Impact Innovators Bootcamp
DESCRIPTION:  \nWhat is the Impact Innovators Bootcamp?\n  \nReady to turn your passion for a better world into a thriving business? The Impact Innovators Bootcamp is your launchpad for building a purpose-driven business that’s not just profitable\, but impactful.  \nImagine a fashion brand that uses recycled materials to create stylish clothing\, a renewable energy company empowering communities\, or a tech platform connecting farmers with sustainable practices. These are just a few examples of impact-oriented businesses – ventures that prioritize profit alongside positive social or environmental change.  \n  \nWhat You’ll Gain\nOver five dynamic sessions\, you’ll: \n\nUnleash your potential: Go from “aha!” moments to a rock-solid business plan\, designed for real-world impact. \n\n\nImpact first: Learn to weave sustainability and ethical practices into every fiber of your business\, aligning with the United Nations Sustainable Development Goals (SDGs). \n\n\nDesign for good: Master the art of business design and impact design – two sides of the same coin for ventures that create positive change. \n\n\nBuild a community: Connect with like-minded entrepreneurs who share your vision for a brighter future. \n\n\nMake a difference: Gain the tools and confidence to launch a business that tackles social and environmental challenges head-on. \n\n   \nWhat’s In It For You? \n\nClarity: Transform your big idea into an actionable plan. \n\n\nSkills: Master the frameworks and tools needed to build a successful impact business. You’ll also have a chance to win free access to our paid workshops. \n\n\nNetwork: Tap into a vibrant community of changemakers. \n\n\nFunding potential: Gain insights and strategies to successfully navigate the funding landscape and attract investors who share your passion for impact. \n\n\nThe ultimate reward: The satisfaction of knowing your business is making a real difference in the world. \n\n   \nThis Bootcamp is Right for You If:\n\nYou believe in the power of positive change: You envision a world where businesses contribute to a better future – for people\, communities\, and the planet. \n\n\nYou’re passionate about making a difference: You have a cause you care deeply about\, and you want to be part of the solution. \n\n\nYou’re ready to turn ideas into action: You have an idea (or are open to exploring new ones) that can create meaningful impact\, no matter how big or small. \n\n\nYou’re eager to learn and grow: You want to gain the skills and confidence to build a business that thrives while making a positive difference. \n\n\nYou crave connection and collaboration: You’re excited to join a community of like-minded individuals who share your passion for purpose-driven entrepreneurship. \n\n  \nFrom fair trade coffee companies to innovative health tech startups improving access to care\, impact-oriented businesses are reshaping industries and creating a better world.  Join the Impact Innovators Bootcamp and become part of this growing movement.  \n  \nJoin the Impact Innovators Bootcamp and Become a Catalyst for a Sustainable Future! \nDates: Thursdays\, April 30\, May 7\, 14\, 21\, & 28 | 6:00 PM – 8:30 PM \nCall 438-812-0168 or email us servicescoordinator@yesmontreal.ca to register yourself for the next session. Please note that participants must have an active file at YES to register and must complete the session in consecutive order. If you are unable to attend one week then you must wait until the next session to complete the course. \n*For an annual entrepreneurship fee of $30\, you’ll have access to specialized online services including coaching\, Business Bootcamp\, legal information &amp; accounting clinics. \nTo learn more about our services for entrepreneurs\, click here.
URL:https://yesmontreal.ca/event/building-a-purpose-driven-business/2026-04-30/
LOCATION:Online / Remote\, Canada
CATEGORIES:Daytime,Entrepreneurship,Virtual
ORGANIZER;CN="YES Employment + Entrepreneurship":MAILTO:info@yesmontreal.ca
END:VEVENT
END:VCALENDAR