BEGIN:VCALENDAR
VERSION:2.0
PRODID:-//YES Employment and Entrepreneurship - ECPv6.15.20//NONSGML v1.0//EN
CALSCALE:GREGORIAN
METHOD:PUBLISH
X-ORIGINAL-URL:https://yesmontreal.ca
X-WR-CALDESC:Events for YES Employment and Entrepreneurship
REFRESH-INTERVAL;VALUE=DURATION:PT1H
X-Robots-Tag:noindex
X-PUBLISHED-TTL:PT1H
BEGIN:VTIMEZONE
TZID:America/Toronto
BEGIN:DAYLIGHT
TZOFFSETFROM:-0500
TZOFFSETTO:-0400
TZNAME:EDT
DTSTART:20240310T070000
END:DAYLIGHT
BEGIN:STANDARD
TZOFFSETFROM:-0400
TZOFFSETTO:-0500
TZNAME:EST
DTSTART:20241103T060000
END:STANDARD
BEGIN:DAYLIGHT
TZOFFSETFROM:-0500
TZOFFSETTO:-0400
TZNAME:EDT
DTSTART:20250309T070000
END:DAYLIGHT
BEGIN:STANDARD
TZOFFSETFROM:-0400
TZOFFSETTO:-0500
TZNAME:EST
DTSTART:20251102T060000
END:STANDARD
BEGIN:DAYLIGHT
TZOFFSETFROM:-0500
TZOFFSETTO:-0400
TZNAME:EDT
DTSTART:20260308T070000
END:DAYLIGHT
BEGIN:STANDARD
TZOFFSETFROM:-0400
TZOFFSETTO:-0500
TZNAME:EST
DTSTART:20261101T060000
END:STANDARD
END:VTIMEZONE
BEGIN:VEVENT
DTSTART;TZID=America/Toronto:20250210T120000
DTEND;TZID=America/Toronto:20250210T133000
DTSTAMP:20260425T211829
CREATED:20250128T193759Z
LAST-MODIFIED:20250128T205414Z
UID:82075-1739188800-1739194200@yesmontreal.ca
SUMMARY:NEW! Monday Momentum: Building a Personal Brand
DESCRIPTION:Building a Personal Brand: Stand Out in Your Job Search\n\n\nIn today’s highly competitive job market\, having a strong personal brand is essential to make a lasting impression on recruiters and hiring managers. Building a Personal Brand is part of the Monday Momentum: Behind the Recruiter’s Desk series\, designed to help job seekers and career shifters navigate the job market with confidence and clarity. \nWhy Building a Personal Brand Matters\nWhen you think of personal branding for your job search or career growth\, is LinkedIn the first thing that comes to mind? \nWhile LinkedIn is undoubtedly a powerful tool\, personal branding extends far beyond social media. It’s the complete essence of who you are—how you present yourself and interact in every aspect of your professional life. \nA well-developed and genuine personal brand does more than just highlight your professionalism. It also reveals your passions\, values\, and the “why” that drives you—opening doors to exciting opportunities and showcasing your unique value to employers and your network. \nA well-developed and genuine personal brand not only highlights your professionalism and relevance to employers and your network but also creates pathways to understanding your passions\, values\, and the “why” that drives you. \n\nWhat You’ll Learn\nHosted by Katrina Parker\, Talent Hunter\, this workshop will cover: \n\nDeveloping Your Authentic Personal Brand: Understand how to define and communicate your personal brand in a way that feels true to you.\nSetting Yourself Apart from the Competition: Learn how to highlight your strengths and experiences to stand out in a crowded job market.\nPractical Branding Strategies: Gain actionable tips for crafting a brand that aligns with your career aspirations and professional identity.\n\n\nWho Should Attend\nThis session is perfect for: \n\nJob seekers who want to differentiate themselves in a competitive market.\nProfessionals seeking to strengthen their personal brand to attract new career opportunities.\nAnyone looking to refine their job search strategies and create a lasting impression with recruiters.\n\n\nBuild Your Career Momentum\nBy developing a powerful personal brand\, you can gain a significant edge in your job search\, connect with potential employers\, and accelerate your career growth. \n📅 Date: Monday\, February 10\n⏰ Time: 12:00 PM – 1:30 PM\n💻 Online Only – Pre-registration Required \nIf you want to open more doors and show your unique value\, don’t miss this opportunity to gain valuable insights from Katrina Parker\, a seasoned Talent Hunter\, for an engaging session that will help you build a personal brand that truly resonates. Don’t miss this opportunity to build a personal brand that sets you apart. Register now to start your journey toward career success! \nPre-registration is required. \nRegister Now\nThis workshop is available as an online\, live-streaming webinar. \nOnce you register for the online workshop\, you will receive an email with instructions on how to log in. If you haven’t received the email an hour before the workshop starts\, please check your Spam/Junk folder. \nFind out more about our services for job seekers here.
URL:https://yesmontreal.ca/event/building-a-personal-brand/
LOCATION:Online / Remote\, Canada
CATEGORIES:Daytime,Employment,Virtual
ORGANIZER;CN="YES Employment + Entrepreneurship":MAILTO:info@yesmontreal.ca
END:VEVENT
END:VCALENDAR