BEGIN:VCALENDAR
VERSION:2.0
PRODID:-//YES Employment and Entrepreneurship - ECPv6.15.20//NONSGML v1.0//EN
CALSCALE:GREGORIAN
METHOD:PUBLISH
X-WR-CALNAME:YES Employment and Entrepreneurship
X-ORIGINAL-URL:https://yesmontreal.ca
X-WR-CALDESC:Events for YES Employment and Entrepreneurship
REFRESH-INTERVAL;VALUE=DURATION:PT1H
X-Robots-Tag:noindex
X-PUBLISHED-TTL:PT1H
BEGIN:VTIMEZONE
TZID:America/Toronto
BEGIN:DAYLIGHT
TZOFFSETFROM:-0500
TZOFFSETTO:-0400
TZNAME:EDT
DTSTART:20240310T070000
END:DAYLIGHT
BEGIN:STANDARD
TZOFFSETFROM:-0400
TZOFFSETTO:-0500
TZNAME:EST
DTSTART:20241103T060000
END:STANDARD
BEGIN:DAYLIGHT
TZOFFSETFROM:-0500
TZOFFSETTO:-0400
TZNAME:EDT
DTSTART:20250309T070000
END:DAYLIGHT
BEGIN:STANDARD
TZOFFSETFROM:-0400
TZOFFSETTO:-0500
TZNAME:EST
DTSTART:20251102T060000
END:STANDARD
BEGIN:DAYLIGHT
TZOFFSETFROM:-0500
TZOFFSETTO:-0400
TZNAME:EDT
DTSTART:20260308T070000
END:DAYLIGHT
BEGIN:STANDARD
TZOFFSETFROM:-0400
TZOFFSETTO:-0500
TZNAME:EST
DTSTART:20261101T060000
END:STANDARD
END:VTIMEZONE
BEGIN:VEVENT
DTSTART;TZID=America/Toronto:20250128T100000
DTEND;TZID=America/Toronto:20250128T120000
DTSTAMP:20260422T180210
CREATED:20241203T163426Z
LAST-MODIFIED:20250625T175655Z
UID:77224-1738058400-1738065600@yesmontreal.ca
SUMMARY:Linkedin: A Job Seeker's Guide to Building Your Professional Presence
DESCRIPTION:  \nIs Your Linkedin Profile Working for You—or Against You?\n  \nIn today’s job market\, LinkedIn is one of the most powerful tools for job seekers. Whether you’re a recent graduate\, career changer\, or seasoned professional\, your LinkedIn profile can serve as your digital first impression. Learn how to optimize your LinkedIn profile and make LinkedIn work for you!  \nThis interactive workshop is designed to help you optimize your LinkedIn profile and make it a magnet for recruiters\, employers\, and industry professionals. You’ll learn how to strategically enhance key sections\, including your headline\, About section\, and Experience section\, to stand out in searches and showcase your unique skills and expertise.  \nIn addition to strengthening your profile\, this session will teach you the importance of building a strong professional network. Discover how to connect with industry leaders\, hiring managers\, and peers in meaningful ways to expand your reach and uncover job opportunities in both visible and hidden job markets.  \n What You’ll Learn in This Workshop\n\nStrategies for creating a strategic LinkedIn headline and About section that grab the reader’s attention. \n\n\nBest practices for showcasing your achievements and experience to match your career goals. \n\n\nTips for expanding your professional network by connecting with industry professionals \n\n\nInsights into leveraging LinkedIn features like adding a note to connection requests\, customizing your URL\, and the search box. Whether you’re breaking into a new industry\, seeking to advance your career\, or simply trying to build a stronger online presence\, this workshop is for you. \n\n  \nBy attending\, you’ll gain:  \n\nAn optimized LinkedIn profile designed to attract employers and recruiters. \n\n\nNetworking strategies to foster meaningful connections with industry professionals. \n\n\nSkills to position yourself as a top candidate in your field. \n\nTake charge of your job search and make LinkedIn work for you! \n  \nRegister now to release the full potential of your professional profile and take your career to the next level. \n  \nPre-registration is required. \n  \nRegister Now\n\nThis workshop is available as an online\, live-streaming webinar. \nOnce you have registered\, you will receive an email with instructions on how to log on a few hours before the start time of the workshop. Please check your Spam/Junk folder if you have not received your email with instructions one hour before the start time of the workshop. \nFind out more about our Employment Services here.
URL:https://yesmontreal.ca/event/optimize-your-linkedin-profile/2025-01-28/
LOCATION:Online / Remote\, Canada
CATEGORIES:Daytime,Employment,Virtual
ORGANIZER;CN="YES Employment + Entrepreneurship":MAILTO:info@yesmontreal.ca
END:VEVENT
END:VCALENDAR