BEGIN:VCALENDAR
VERSION:2.0
PRODID:-//YES Employment and Entrepreneurship - ECPv6.15.20//NONSGML v1.0//EN
CALSCALE:GREGORIAN
METHOD:PUBLISH
X-ORIGINAL-URL:https://yesmontreal.ca
X-WR-CALDESC:Events for YES Employment and Entrepreneurship
REFRESH-INTERVAL;VALUE=DURATION:PT1H
X-Robots-Tag:noindex
X-PUBLISHED-TTL:PT1H
BEGIN:VTIMEZONE
TZID:America/Toronto
BEGIN:DAYLIGHT
TZOFFSETFROM:-0500
TZOFFSETTO:-0400
TZNAME:EDT
DTSTART:20240310T070000
END:DAYLIGHT
BEGIN:STANDARD
TZOFFSETFROM:-0400
TZOFFSETTO:-0500
TZNAME:EST
DTSTART:20241103T060000
END:STANDARD
BEGIN:DAYLIGHT
TZOFFSETFROM:-0500
TZOFFSETTO:-0400
TZNAME:EDT
DTSTART:20250309T070000
END:DAYLIGHT
BEGIN:STANDARD
TZOFFSETFROM:-0400
TZOFFSETTO:-0500
TZNAME:EST
DTSTART:20251102T060000
END:STANDARD
BEGIN:DAYLIGHT
TZOFFSETFROM:-0500
TZOFFSETTO:-0400
TZNAME:EDT
DTSTART:20260308T070000
END:DAYLIGHT
BEGIN:STANDARD
TZOFFSETFROM:-0400
TZOFFSETTO:-0500
TZNAME:EST
DTSTART:20261101T060000
END:STANDARD
END:VTIMEZONE
BEGIN:VEVENT
DTSTART;TZID=America/Toronto:20250116T100000
DTEND;TZID=America/Toronto:20250116T133000
DTSTAMP:20260425T144235
CREATED:20240813T185026Z
LAST-MODIFIED:20251209T163009Z
UID:74832-1737021600-1737034200@yesmontreal.ca
SUMMARY:Legal Information Clinic
DESCRIPTION:Free Legal Information Clinics for Entrepreneurs\nAre you an entrepreneur with legal questions? Our free weekly Legal Information Clinics for Entrepreneurs provide essential information on key legal topics such as business structures\, contract law\, taxation\, intellectual property\, and more. Whether you’re just starting out or managing a growing business\, these clinics help you navigate the legal aspects of entrepreneurship with clarity. \nWhy Legal Knowledge is Crucial for Entrepreneurs\nLegal challenges can become significant barriers to business success. From choosing the right business structure to understanding tax obligations\, having a clear understanding of your legal options can save you time and prevent costly mistakes. Addressing legal matters early on helps you reduce risks and focus on growing your business with confidence. The Legal Information Officer at YES is available to help you research your legal questions\, empowering you to make informed decisions. They can provide valuable information on topics like business structures\, contracts\, intellectual property\, and more\, pointing you to helpful resources tailored to your needs. \nWhether you need help understanding contracts\, interpreting clauses\, or preparing for future legal discussions\, the Legal Information Officer is here to support you. Having a strong grasp of the legal side of your business is essential for long-term success. Our clinics offer the insights you need to make informed decisions and avoid common legal pitfalls. The Legal Information Officer can also serve as a sounding board for your ideas\, helping you figure out the next steps. If you’re planning to consult with a lawyer\, they can assist you in preparing your questions\, ensuring you’re ready for a productive meeting. 🎥 Watch this video for a sneak peek at what you can expect! \nhttps://yesmontreal.ca/wp-content/uploads/Legal_Clinic_Expectations_Ready-1.mp4\n  \nClinic Details & How to Register\n\nSpeaker: Kayne Chan Yin-Li Yen Pin\, Legal Information Officer\nTo register: Email servicescoordinator@yesmontreal.ca\nPre-booking required: Clinics must be pre-booked.\nReferral required: A YES Business Coach referral is required.\n\nNote: Clinics are by appointment only\, so make sure to book your spot in advance. \nAdditional Services for Just $30 Annually\nFor just $30 annually\, you can access a wide range of valuable services\, including: \n\nCoaching\nBusiness Bootcamp\nLegal Information & Accounting Clinics\nAnd much more!\n\nTo learn more about our other services\, visit our Business Bootcamp or Coaching Services pages.
URL:https://yesmontreal.ca/event/legal-information-clinic-for-entrepreneurs-4/2025-01-16/
LOCATION:YES Employment + Entrepreneurship\, 666 Sherbrooke Street West 7th Floor\, Montreal\, Quebec\, H3A 1E7\, Canada
CATEGORIES:Daytime,Entrepreneurship
ORGANIZER;CN="YES Employment + Entrepreneurship":MAILTO:info@yesmontreal.ca
END:VEVENT
BEGIN:VEVENT
DTSTART;TZID=America/Toronto:20250116T180000
DTEND;TZID=America/Toronto:20250116T203000
DTSTAMP:20260425T144235
CREATED:20240724T164249Z
LAST-MODIFIED:20251209T150821Z
UID:77565-1737050400-1737059400@yesmontreal.ca
SUMMARY:Business Bootcamp: Kickstart Your Entrepreneurial Journey
DESCRIPTION:  \nFree Business Bootcamp: Kickstart Your Entrepreneurial Journey\n  \nReady to Turn Your Business Idea into Reality?\nOur free 4-part Business Bootcamp offers the expert coaching and practical tools you need to launch your business and start your entrepreneurial journey with confidence. Led by experienced business coaches\, this interactive bootcamp will guide you step-by-step in refining your business idea\, testing your concepts\, and creating a solid business plan. \n\nWhat You Will Gain\n  \n🎥 Watch this video for a sneak peek at what you can expect! \n  \nhttps://yesmontreal.ca/wp-content/uploads/Business_Bootcamp_Expectations_Ready.mp4\n\nComplete Your Business Model Canvas\nLearn to use this essential tool to map out the key components of your business\, including opportunities\, activities\, and revenue streams. \nNetworking Opportunities\nExpand your professional network by connecting with like-minded entrepreneurs and potential collaborators. \nPitch Practice\nHone your business pitch in front of a supportive audience. You could even win free access to our paid workshops! \nPersonalized Feedback\nReceive expert feedback on your business plans and pitch presentations\, helping you improve and succeed. \nActionable Business Steps\nLeave the bootcamp with clear\, actionable steps to launch and grow your business. To help you avoid common startup mistakes along the way\, check out our helpful blog post on Avoiding Common Startup Mistakes. \nExclusive Resources\nAccess valuable tools and templates exclusive to bootcamp participants\, including a comprehensive business planning toolkit. \nProfessional Certification\nEarn a certificate of completion to enhance your professional profile and showcase your entrepreneurial expertise. \nFollow-Up Support\nBenefit from ongoing support\, including a free coaching session or access to advanced workshops after completing the bootcamp. \n\nEngaging and Interactive Sessions\nPeer Accountability Groups\nJoin peer accountability groups for mutual support and motivation\, keeping you on track throughout your journey. \nHands-On Workshops and Group Activities\nParticipate in hands-on workshops and group activities that reinforce your learning and business skills. \n\nDon’t Miss Out on This Incredible Opportunity to Fuel Your Entrepreneurial Journey!\nWhether you’re launching a product-based business or a service-based business\, this bootcamp provides the tools and knowledge you need to succeed in today’s competitive marketplace. Learn how to create a competitive business model\, test your ideas\, and communicate your unique value proposition. \n  \nBootcamp Dates\n  \nSeries 4\, Thursdays\, April 3\, 10\, 17 & 24\, 2025\, 1:00 – 3:30 PM  \nSeries 5\, Thursdays\, June 5\, 12\, 19\, & 26\, 2025\, 1:00 – 3:30 PM  \nSeries 6\, Thursdays\, July 3\, 10\, 17\, & 24. 2025\, 1:00 – 3:30 PM  \nSeries7\, Thursdays\, July 31\, Aug 7\, 14\,  & 21\, 2025\, 1:00 – 3:30 PM  \n  \nHow to Register\nFor more information and to register\, email servicescoordinator@yesmontreal.ca. \nNote: Participants must have an active file at YES to register and complete the series in consecutive order. If you miss a session\, you must wait until the next session to continue. \n  \nJoin Our Entrepreneurship Program for Just $30 Annually\nUnlock a year of benefits\, including free one-on-one coaching\, business bootcamps\, legal resources\, and accounting clinics. \nTo learn more about our services for entrepreneurs\, click here.
URL:https://yesmontreal.ca/event/business-bootcamp-launch-your-business/2025-01-16/
LOCATION:Online / Remote\, Canada
CATEGORIES:Daytime,Entrepreneurship
ORGANIZER;CN="YES Employment + Entrepreneurship":MAILTO:info@yesmontreal.ca
END:VEVENT
END:VCALENDAR