BEGIN:VCALENDAR
VERSION:2.0
PRODID:-//YES Employment and Entrepreneurship - ECPv6.15.20//NONSGML v1.0//EN
CALSCALE:GREGORIAN
METHOD:PUBLISH
X-WR-CALNAME:YES Employment and Entrepreneurship
X-ORIGINAL-URL:https://yesmontreal.ca
X-WR-CALDESC:Events for YES Employment and Entrepreneurship
REFRESH-INTERVAL;VALUE=DURATION:PT1H
X-Robots-Tag:noindex
X-PUBLISHED-TTL:PT1H
BEGIN:VTIMEZONE
TZID:America/Toronto
BEGIN:DAYLIGHT
TZOFFSETFROM:-0500
TZOFFSETTO:-0400
TZNAME:EDT
DTSTART:20230312T070000
END:DAYLIGHT
BEGIN:STANDARD
TZOFFSETFROM:-0400
TZOFFSETTO:-0500
TZNAME:EST
DTSTART:20231105T060000
END:STANDARD
BEGIN:DAYLIGHT
TZOFFSETFROM:-0500
TZOFFSETTO:-0400
TZNAME:EDT
DTSTART:20240310T070000
END:DAYLIGHT
BEGIN:STANDARD
TZOFFSETFROM:-0400
TZOFFSETTO:-0500
TZNAME:EST
DTSTART:20241103T060000
END:STANDARD
BEGIN:DAYLIGHT
TZOFFSETFROM:-0500
TZOFFSETTO:-0400
TZNAME:EDT
DTSTART:20250309T070000
END:DAYLIGHT
BEGIN:STANDARD
TZOFFSETFROM:-0400
TZOFFSETTO:-0500
TZNAME:EST
DTSTART:20251102T060000
END:STANDARD
END:VTIMEZONE
BEGIN:VEVENT
DTSTART;TZID=America/Toronto:20241113T140000
DTEND;TZID=America/Toronto:20241113T153000
DTSTAMP:20260422T054051
CREATED:20231212T142209Z
LAST-MODIFIED:20231212T142209Z
UID:74053-1731506400-1731511800@yesmontreal.ca
SUMMARY:NEW! Financing Options for Your Business (Online Workshop)
DESCRIPTION:Calling all entrepreneurs with big dreams and bold ideas!   \nYou have a fantastic business concept\, yet you might be unsure about where and how to get the necessary funding to jump-start your business. \nGain invaluable insights into creating investment-worthy proposals\, discover the right funding channels for your business\, and unravel the mysteries of what investors are really looking for. Join us on this funding journey and turn your vision into a reality! \nYour quest to securing funding for your business starts right here. \nPlease Note: This workshop is available as an online\, live-streaming webinar. \nPre-registration is required. \nAccelerate your business growth – Register Today! \nReserve Your Spot\n\nOnce you have registered for the online workshop\, you will receive an email with instructions on how to log on a few hours before the start time of the workshop. Please check your Spam/Junk folder if you have not received your email with instructions 1 hour before the start time of the workshop.
URL:https://yesmontreal.ca/event/new-financing-options-for-your-business-online-workshop/2024-11-13/
LOCATION:Online / Remote\, Canada
CATEGORIES:Daytime,Entrepreneurship,Virtual
ORGANIZER;CN="YES Employment + Entrepreneurship":MAILTO:info@yesmontreal.ca
END:VEVENT
BEGIN:VEVENT
DTSTART;TZID=America/Toronto:20241113T180000
DTEND;TZID=America/Toronto:20241113T200000
DTSTAMP:20260422T054051
CREATED:20241021T204050Z
LAST-MODIFIED:20241022T150109Z
UID:75910-1731520800-1731528000@yesmontreal.ca
SUMMARY:AI Empowerment for SMBs: Automate\, Personalize\, and Grow
DESCRIPTION:Are you ready to streamline your operations\, captivate your customers\, and accelerate your growth—all without significant upfront costs or technical expertise? 📈\n🌐 Join our FREE in-person workshop in Quebec City designed specifically for small and medium-sized businesses eager to harness the power of Artificial Intelligence (AI): \n\nAutomate routine tasks to boost efficiency and free up valuable time.\nPersonalize your marketing to engage customers like never before.\nGrow your business using affordable\, data-driven AI tools.\n\nThis dynamic workshop will be led by YES business coach and entrepreneur Farshad Rouhani\, and will include a segment from special guest Philip Goyer on how AI has helped his business grow. As a bonus\, there will be a networking session following the workshop\, at 7:00 – 8:00 PM\, as well as before the workshop\, at 5:30 – 6:00 PM! \nWhy Attend?\n💡 Actionable Insights: Learn practical strategies you can implement immediately. \n🙌 Hands-On Experience: Interact with user-friendly AI tools tailored for SMBs. \n🧠 Expert Guidance: Gain knowledge from industry professionals specializing in AI for businesses like yours. \n🥂 Networking Opportunity: Connect and share insights with fellow entrepreneurs and industry experts – light snacks\, coffee\, and an alcohol beverage included! \nRegister Now!\nDon’t miss this opportunity to unlock AI’s potential and take your business to new heights. Space is limited\, so secure your spot today! \n➡️ Please note that YES business coaches\, including Farshad Rouhani\, are available for 1-on-1 business consultations at VEQ Centre on November 13 and November 14. For more information\, please contact Viktoria Poulin Gareau at newcomers@veq.ca. \nThis workshop and networking event is made accessible to you at no cost\, thanks to the generous support of the Government of Canada\, Canada Economic Development for Quebec Regions\, and YSpace: York University. While not all our programs are fully funded\, we are committed to providing services either free of charge or at minimal cost. Thank you for choosing YES! \n*************************************************** \nÊtes-vous prêt à optimiser vos opérations\, à captiver vos clients et à accélérer votre croissance\, le tout sans coûts initiaux élevés ni expertise technique requise ? 📈\n🌐 Participez à notre atelier GRATUIT en personne à Québec\, spécialement conçu pour les petites et moyennes entreprises souhaitant exploiter la puissance de l’intelligence artificielle (IA) : \n\nAutomatisez les tâches répétitives pour accroître votre efficacité et libérer du temps précieux.\nPersonnalisez vos campagnes marketing pour engager vos clients comme jamais auparavant.\nDéveloppez votre entreprise en utilisant des outils d’IA abordables et basés sur les données.\n\nCet atelier dynamique sera animé par Farshad Rouhani\, coach d’affaires et entrepreneur chez YES\, avec une intervention spéciale de Philip Goyer sur la manière dont l’IA a contribué à la croissance de son entreprise. En bonus\, une séance de réseautage aura lieu après l’atelier\, de 19h00 à 20h00\, ainsi qu’avant l’atelier\, de 17h30 à 18h00 ! \nPourquoi participer ?\n💡 Conseils pratiques : Apprenez des stratégies concrètes que vous pourrez mettre en œuvre immédiatement. \n🙌 Expérience immersive : Manipulez des outils d’IA faciles à utiliser\, adaptés aux PME. \n🧠 Expertise professionnelle : Profitez des conseils d’experts spécialisés dans l’IA pour les entreprises comme la vôtre. \n🥂 Opportunité de réseautage : Échangez avec d’autres entrepreneurs et experts de l’industrie – des collations légères\, du café et une boisson alcoolisée seront offerts ! \nInscrivez-vous maintenant!\nNe manquez pas cette occasion de libérer le potentiel de l’IA et de faire passer votre entreprise à un niveau supérieur. Les places sont limitées\, alors réservez la vôtre dès aujourd’hui ! \n➡️ Veuillez noter que les coachs d’affaires de YES\, y compris Farshad Rouhani\, seront disponibles pour des consultations individuelles au Centre VEQ les 13 et 14 novembre. Pour plus d’informations\, veuillez contacter Viktoria Poulin Gareau à newcomers@veq.ca. \nCet atelier sera animé en anglais\, mais inclura des sous-titres en français. \nCet atelier et événement de réseautage vous sont offerts sans frais grâce au généreux soutien du gouvernement du Canada\, de Développement économique Canada pour les régions du Québec et de YSpace : Université York. Bien que tous nos programmes ne soient pas entièrement financés\, nous nous engageons à fournir des services gratuitement ou à coût réduit. Merci d’avoir choisi YES ! \n  \n  \nAbout our speakers:\n \nFarshad (Fred) Rouhani – YES Business Coach & Entrepreneur \nFred\, a three-time entrepreneur\, boasts an eclectic blend of experience acquired over twenty years and across three continents. His expertise\, combining Information Technology\, business savvy\, and entrepreneurial spirit\, has been honed through the rigors of building and scaling inventive and successful businesses. Fred’s entrepreneurial journey has been a diverse one\, marked by initial failures and subsequent triumphs\, offering him valuable lessons about empathizing with target markets\, crafting impactful narratives\, and driving sustainable growth. \nThrough up hills and down hills\, Fred has learned to design businesses ground up\, articulate unique selling propositions\, build high-performance teams\, and employ cutting-edge technologies. As a resource for both trailblazing entrepreneurs and pioneering social entrepreneurs\, Fred stands ready to guide you from idea conception to sustained cash flow and impact\, you want to be proud of. \n  \n  \n \nPhilip Goyer – Multi-entrepreneur & Athlete \nA passionate multi-entrepreneur and athlete\, Philip Goyer stands out for his integrity and resilience. He is committed to making a tangible difference in the world\, inspiring those around him to give their best. \nAs a father of two\, he balances family life with community engagement\, actively supporting causes like Kiwanis and various nonprofit organizations. Philip embodies a dedicated leader\, focused on building a better future for generations to come. \nInspirational Quote: “Shoot for the moon. Even if you miss\, you’ll land among the stars.” \nExplore his services to secure your future today at philipgoyer.com.
URL:https://yesmontreal.ca/event/ai-empowerment-for-smbs-automate-personalize-and-grow/
LOCATION:Ste Foy – La Maison Smith\, 2330 Chemin Sainte-Foy #Suite 109 Québec\, QC G1V 1S5\, Québec\, Québec\, G1V 1S5\, Canada
CATEGORIES:Entrepreneurship,Evening,Networking
ORGANIZER;CN="YES Employment + Entrepreneurship":MAILTO:info@yesmontreal.ca
END:VEVENT
END:VCALENDAR