BEGIN:VCALENDAR
VERSION:2.0
PRODID:-//YES Employment and Entrepreneurship - ECPv6.15.20//NONSGML v1.0//EN
CALSCALE:GREGORIAN
METHOD:PUBLISH
X-ORIGINAL-URL:https://yesmontreal.ca
X-WR-CALDESC:Events for YES Employment and Entrepreneurship
REFRESH-INTERVAL;VALUE=DURATION:PT1H
X-Robots-Tag:noindex
X-PUBLISHED-TTL:PT1H
BEGIN:VTIMEZONE
TZID:America/Toronto
BEGIN:DAYLIGHT
TZOFFSETFROM:-0500
TZOFFSETTO:-0400
TZNAME:EDT
DTSTART:20230312T070000
END:DAYLIGHT
BEGIN:STANDARD
TZOFFSETFROM:-0400
TZOFFSETTO:-0500
TZNAME:EST
DTSTART:20231105T060000
END:STANDARD
BEGIN:DAYLIGHT
TZOFFSETFROM:-0500
TZOFFSETTO:-0400
TZNAME:EDT
DTSTART:20240310T070000
END:DAYLIGHT
BEGIN:STANDARD
TZOFFSETFROM:-0400
TZOFFSETTO:-0500
TZNAME:EST
DTSTART:20241103T060000
END:STANDARD
BEGIN:DAYLIGHT
TZOFFSETFROM:-0500
TZOFFSETTO:-0400
TZNAME:EDT
DTSTART:20250309T070000
END:DAYLIGHT
BEGIN:STANDARD
TZOFFSETFROM:-0400
TZOFFSETTO:-0500
TZNAME:EST
DTSTART:20251102T060000
END:STANDARD
END:VTIMEZONE
BEGIN:VEVENT
DTSTART;TZID=America/Toronto:20240717T140000
DTEND;TZID=America/Toronto:20240717T153000
DTSTAMP:20260420T021306
CREATED:20231212T142209Z
LAST-MODIFIED:20240717T194218Z
UID:72105-1721224800-1721230200@yesmontreal.ca
SUMMARY:NEW! Financing Options for Your Business (Online Workshop)
DESCRIPTION:Calling all entrepreneurs with big dreams and bold ideas!   \nYou have a fantastic business concept\, yet you might be unsure about where and how to get the necessary funding to jump-start your business. \nGain invaluable insights into creating investment-worthy proposals\, discover the right funding channels for your business\, and unravel the mysteries of what investors are really looking for. Join us on this funding journey and turn your vision into a reality! \nYour quest to securing funding for your business starts right here. \nPlease Note: This workshop is available as an online\, live-streaming webinar. \nPre-registration is required. \nAccelerate your business growth – Register Today! \nReserve Your Spot\n\nOnce you have registered for the online workshop\, you will receive an email with instructions on how to log on a few hours before the start time of the workshop. Please check your Spam/Junk folder if you have not received your email with instructions 1 hour before the start time of the workshop.
URL:https://yesmontreal.ca/event/new-financing-options-for-your-business-online-workshop/2024-07-17/
LOCATION:Online / Remote\, Canada
CATEGORIES:Daytime,Entrepreneurship,Virtual
ORGANIZER;CN="YES Employment + Entrepreneurship":MAILTO:info@yesmontreal.ca
END:VEVENT
END:VCALENDAR