BEGIN:VCALENDAR
VERSION:2.0
PRODID:-//YES Employment and Entrepreneurship - ECPv6.15.20//NONSGML v1.0//EN
CALSCALE:GREGORIAN
METHOD:PUBLISH
X-WR-CALNAME:YES Employment and Entrepreneurship
X-ORIGINAL-URL:https://yesmontreal.ca
X-WR-CALDESC:Events for YES Employment and Entrepreneurship
REFRESH-INTERVAL;VALUE=DURATION:PT1H
X-Robots-Tag:noindex
X-PUBLISHED-TTL:PT1H
BEGIN:VTIMEZONE
TZID:America/Toronto
BEGIN:DAYLIGHT
TZOFFSETFROM:-0500
TZOFFSETTO:-0400
TZNAME:EDT
DTSTART:20250309T070000
END:DAYLIGHT
BEGIN:STANDARD
TZOFFSETFROM:-0400
TZOFFSETTO:-0500
TZNAME:EST
DTSTART:20251102T060000
END:STANDARD
BEGIN:DAYLIGHT
TZOFFSETFROM:-0500
TZOFFSETTO:-0400
TZNAME:EDT
DTSTART:20260308T070000
END:DAYLIGHT
BEGIN:STANDARD
TZOFFSETFROM:-0400
TZOFFSETTO:-0500
TZNAME:EST
DTSTART:20261101T060000
END:STANDARD
BEGIN:DAYLIGHT
TZOFFSETFROM:-0500
TZOFFSETTO:-0400
TZNAME:EDT
DTSTART:20270314T070000
END:DAYLIGHT
BEGIN:STANDARD
TZOFFSETFROM:-0400
TZOFFSETTO:-0500
TZNAME:EST
DTSTART:20271107T060000
END:STANDARD
END:VTIMEZONE
BEGIN:VEVENT
DTSTART;TZID=America/Toronto:20260526T183000
DTEND;TZID=America/Toronto:20260526T203000
DTSTAMP:20260422T153459
CREATED:20260312T190929Z
LAST-MODIFIED:20260312T195321Z
UID:94270-1779820200-1779827400@yesmontreal.ca
SUMMARY:Navigating Hard Conversations in Early Stage Startups
DESCRIPTION:Learn How to Handle Tough Startup Conversations With Legal Confidence\nFounders often spend months perfecting their product but less time on the crucial conversations and agreements that sustain a healthy team. In this workshop\, participants will learn to handle tough startup conversations with confidence and legal clarity\, gaining practical strategies to discuss roles\, responsibilities\, compensation\, time commitments\, and equity with partners and investors. \nLed by Niousha Riahi\nLed by Niousha Riahi\, Business and Litigation Lawyer and Startup Governance Specialist in Montréal\, this session is designed for early-stage entrepreneurs seeking to strengthen communication and governance practices. Drawing from her extensive experience advising startups on contracts\, partnership structures\, and conflict prevention\, Niousha provides actionable tools to avoid misunderstandings\, define boundaries\, and protect ventures legally. \nSet Boundaries and Prevent Conflict Early\nThe workshop emphasizes proactive conversations to ensure clarity and alignment within the team. Participants will explore methods to establish clear roles\, document expectations\, and address sensitive topics before they escalate. Learning to handle tough startup conversations with confidence and legal clarity helps founders prevent costly disputes and build a foundation of trust among co-founders and contributors. \nYou’ll learn what needs to be discussed\, what should be documented\, and how to approach sensitive topics while preserving relationships and ownership rights. \nCompensation\, Equity\, and Legal Guidance\nA major focus of the session is understanding compensation\, equity distribution\, and legal formalization. Attendees will receive guidance on structuring agreements that protect both the founders and early contributors while aligning incentives for growth. Practical tools include frameworks for initiating difficult conversations\, legal best practices\, and innovative solutions to maintain business ownership and attract committed partners. \nBy the end of the workshop\, participants will walk away with:\n\nA law-informed framework for initiating hard conversations with co-founders and investors\nPractical tools for setting boundaries\, documenting expectations\, and preventing conflict\nGuidance on compensation\, equity\, and roles with legal insights to protect ownership\n\nThis session equips early-stage founders to communicate effectively\, formalize agreements appropriately\, and foster a healthy startup culture. \nSpeaker\nSpeaker: Niousha Rahi\, Business and Litigation Lawyer & Startup Governance Specialist \nRegister Today!\n\n\nAbout the speaker:\nNiousha Rahi\, Business and Litigation Lawyer & Startup Governance Specialist\nNiousha Riahi is a business and litigation lawyer in Montréal specializing in startup governance\, commercial agreements\, and conflict prevention. She supports founders in building strong legal foundations that foster trust\, protect relationships\, and safeguard long-term growth. Niousha has a decade of experience spanning government roles and private-sector practice. She has represented both emerging startups and multinational corporations in national and multijurisdictional matters.  \nAs the founder of Riahi Legal\, Niousha leads a boutique law firm recognized for excellence in civil and commercial litigation. Since 2024\, the firm has been named by ThreeBestRated.ca as one of Montréal’s top three civil litigation law firms. It has been ranked among TrustAnalytica’s Top 10 Reliable Small Business Lawyers. More recently\, Riahi Legal has also been listed among Montréal’s top five family law firms.  \nBeyond her practice\, Niousha contributes regularly to legal workshops and public-facing publications aimed at entrepreneurs and the wider community. She also serves on the board of non-profit organizations\, reflecting her deep commitment to community engagement and accessible legal education.  \nLearn more about our ELLEvate Women Entrepreneurs program! \nThis workshop is made accessible to you at no cost\, thanks to generous funding from the Government of Canada and Yspace: York University. \n*Please Note: Pre-registration is required. This workshop is presented in English (with French subtitles) and is available as an online\, live streaming webinar only. \nOnce you have registered\, you will receive an email with instructions on how to log on a few hours prior to the start time of the workshop. Please check your Spam/Junk folder if you have not received your email with instructions one hour prior to the start time of the workshop.
URL:https://yesmontreal.ca/event/learn-how-to-handle-tough-startup-conversations-with-legal-confidence/
LOCATION:Online / Remote\, Canada
CATEGORIES:ELLEvate Women Entrepreneurs,Entrepreneurship,Evening,Virtual
ORGANIZER;CN="YES Employment + Entrepreneurship":MAILTO:info@yesmontreal.ca
END:VEVENT
END:VCALENDAR