BEGIN:VCALENDAR
VERSION:2.0
PRODID:-//YES Employment and Entrepreneurship - ECPv6.15.20//NONSGML v1.0//EN
CALSCALE:GREGORIAN
METHOD:PUBLISH
X-ORIGINAL-URL:https://yesmontreal.ca
X-WR-CALDESC:Events for YES Employment and Entrepreneurship
REFRESH-INTERVAL;VALUE=DURATION:PT1H
X-Robots-Tag:noindex
X-PUBLISHED-TTL:PT1H
BEGIN:VTIMEZONE
TZID:America/Toronto
BEGIN:DAYLIGHT
TZOFFSETFROM:-0500
TZOFFSETTO:-0400
TZNAME:EDT
DTSTART:20250309T070000
END:DAYLIGHT
BEGIN:STANDARD
TZOFFSETFROM:-0400
TZOFFSETTO:-0500
TZNAME:EST
DTSTART:20251102T060000
END:STANDARD
BEGIN:DAYLIGHT
TZOFFSETFROM:-0500
TZOFFSETTO:-0400
TZNAME:EDT
DTSTART:20260308T070000
END:DAYLIGHT
BEGIN:STANDARD
TZOFFSETFROM:-0400
TZOFFSETTO:-0500
TZNAME:EST
DTSTART:20261101T060000
END:STANDARD
BEGIN:DAYLIGHT
TZOFFSETFROM:-0500
TZOFFSETTO:-0400
TZNAME:EDT
DTSTART:20270314T070000
END:DAYLIGHT
BEGIN:STANDARD
TZOFFSETFROM:-0400
TZOFFSETTO:-0500
TZNAME:EST
DTSTART:20271107T060000
END:STANDARD
END:VTIMEZONE
BEGIN:VEVENT
DTSTART;TZID=America/Toronto:20260424T090000
DTEND;TZID=America/Toronto:20260424T180000
DTSTAMP:20260422T141119
CREATED:20260331T162809Z
LAST-MODIFIED:20260422T151111Z
UID:94822-1777021200-1777053600@yesmontreal.ca
SUMMARY:NEW! Business Skills for Creative Souls Artists Conference: Art in the Face of Adversity
DESCRIPTION:Register for the Business Skills for Creative Soul Artists Conference and Grow Your Creative Career\n  \n📅 Friday\, April 24\, 2026\n🕒 10 AM – 6 PM (Doors open at 9 AM + networking mixer)\n📍 Unitarian Church of Montreal (near Vendôme Metro) \nExperience a full day of learning\, connection\, and growth alongside industry experts like Gavin Seal\, Simon Peacock\, and Isabelle Van Grimde. \nGain the tools you need to adapt\, fund your work\, and build visibility in today’s rapidly evolving creative landscape. \n🔥 Why Attend?\n\nAdapt your creative practice to the age of AI\nLearn practical funding strategies (including CALQ insights)\nIncrease your visibility and grow your audience\nSupport your mental health as a creative professional\nBuild meaningful connections with artists and industry leaders\n\n\n🎤 Featured Speakers\, Experts\, Performers\n\nSonali Karnick (Conference host) – All in a Weekend | CBC\nAmanda Wanis – Program Officer at the Conseil des arts et des lettres du Québec (CALQ)\nCaroline Marcoux‑Gendron — Founder | Musique Immigration\nEleuthera Diconca‑Lippert – Singer / Songwriter / Choir Director\nFred Azeredo – Brazilian radio and theatre writer‑director | Trellis Microgrants Project Coordinator (ELAN)\nGavin Seal — Award‑winning filmmaker\, director\, producer\, and writer\nGuillaume Thériault — Multidisciplinary arts\, travel grants (multidisciplinary arts)\, comedy | CALQ\nIsabelle Van Grimde — Artistic Director\nKalika Hastings — Publicist and Brand Strategist\nMarianne Berthelette — Secretary and Director of Support and Training Services | Centre psychologique pour artistes\nNicolas Lachance‑Brais – Concept Artist / 3D Generalist / Unreal Engine (UE) Artist\nOmar Bernal — Visual Artist\nRameez Karim — Dancer\, Founder | Veils of Bollywood\nSimon Peacock — Actor and President | ACTRA Montreal\n\n\nClick here for more information on our host\, speakers and performers.\n\n🔥 Cost to attend\nIn‑person $35 | Online‑only $15\n  \n🚀 Take Action Now\nDon’t miss this opportunity to learn\, connect\, and grow with Montreal’s creative community. \n  \n\n\n  \n  \n🧠 Event Schedule Highlights\n10:00 AM — Welcome\nWith Gonzalo Caloma\, Interim Executive Director\, YES \n10:15 AM – PERFORMANCE: Veils of Bollywood – Rameez Karim\n10:25 AM — PANEL: Building an Artistic Life After Migration\nWith Omar Bernal\, Caroline Marcoux-Gendron\, and Rameez Karim\, explore how to redefine your artistic identity in a new cultural context. Moderated by: Fred Azeredo (ELAN) \n11:30 AM – Creative Work and Mental Health\nWith Marianne Berthelette\, gain tools to navigate the psychological challenges of creative work. \n12:00 PM – Musique Immigration Launch\n12:15 PM – Lunch Break \n1:15 PM —  Money Models for Filmmakers\nDiscover practical strategies with Gavin Seal to build sustainable income and diversify your revenue streams. \n1:45 PM – PERFORMANCE: Eleuthera\n1:55 PM — PANEL: Creative Practice in the Age of AI\nA must-attend discussion with Nicolas Lachance-Brais\, Simon Peacock\, and Isabelle Van Grimde on how AI is shaping creative industries. \n3:00 PM — LEARNING ACTIVITY: Build Your Dream Team\nWith YES Artist Business Coaches Stacey Lavender and Caroline Gauthier. \n3:30 PM — Understanding CALQ Funding\nWith Amanda Wanis and Guillaume Thériault\, learn how to navigate funding programs and apply with confidence. \n4:00 PM — Stop Waiting to be Discovered\nWith Kalika Hastings\, learn how to take control of your visibility and grow your audience. \n5:00 PM — Networking Event\nConnect with fellow artists\, collaborators\, and industry professionals in a relaxed setting. \n\n👥 Who Should Attend\n\nArtists and creatives of all disciplines\nNewcomers building their professional network\nFilmmakers and multidisciplinary creators\nArtists seeking funding\, visibility\, or business skills\n\n\n🌐 Attend In Person or Online\nJoin us in person for the full experience or attend online to access key sessions and insights. \nRegister today and take a meaningful step forward in your creative career. \n  \n \n  \n  \n\n  \nSupported by: \n\n\n \nMedia Partners: \n\n\n \n\n\n \nFor more information about our Artists Program\, click here.
URL:https://yesmontreal.ca/event/build-skills-to-thrive-as-an-artist/
LOCATION:Unitarian Church of Montréal\, 5035 Boul. de Maisonneuve Ouest\, Montreal\, Quebec\, H4A 1Y5\, Canada
CATEGORIES:Artists,Arts,Daytime,Networking
ORGANIZER;CN="YES Employment + Entrepreneurship":MAILTO:info@yesmontreal.ca
END:VEVENT
BEGIN:VEVENT
DTSTART;TZID=America/Toronto:20260504T133000
DTEND;TZID=America/Toronto:20260504T153000
DTSTAMP:20260422T141119
CREATED:20251204T154853Z
LAST-MODIFIED:20251209T154833Z
UID:91515-1777901400-1777908600@yesmontreal.ca
SUMMARY:Jump Start Your Art + Financing Options
DESCRIPTION:  \nJump Start Your Art: Begin Your Journey to a Profitable Artistic Career\n  \nAre you ready to take your artistic passion to the next level and make a sustainable living from your creativity? Jump Start Your Art is the perfect workshop for artists who want to build a business or career around their talent but need guidance on how to get started. \n\nWhat You’ll Learn at Jump Start Your Art\nIn this free workshop\, we’ll introduce you to the essential tools\, resources\, and strategies for launching your artistic career. You’ll discover key services offered by YES and other arts organizations in the community\, as well as gain valuable insights into the arts industry. We’ll touch upon vital topics such as: \n\nIndustry Overview\nLearn about the arts industry landscape\, its challenges\, and opportunities for growth. \nMarketing and Promotion Tips\nUnderstand how to market your art effectively and reach a wider audience. \nBuilding Stakeholder Relationships\nDiscover the importance of cultivating relationships with galleries\, clients\, and collaborators. \nNavigating Funding and Grants\nGet essential tips on how to understand the funding landscape and write compelling grant proposals. \n\nPersonal Consultation for Artistic Growth\nAfter the workshop\, you’ll have the opportunity to meet one-on-one with an experienced artist coach who will help identify which services best suit your specific needs. Whether you’re a new artist or looking to grow your existing practice\, our artist coaching is designed to provide personalized guidance and actionable next steps. \nOne-on-One Artist Coaching\nA free 15-minute session with a YES Artist Coach is available for new clients to explore the services that can support your journey. Existing clients can use this time to address any small issues in their creative practice or business. \nPre-registration is required. Available as an in-person workshop. \n\nRegister Now\n  \nPlease Note: Those wishing to obtain artist coaching services are encouraged to attend this free workshop first.   \nOnce you have registered for the in-person workshop\, please arrive at the YES office\, located at 666 Sherbrooke Street West\, 7th floor\, 15–30 minutes before the workshop begins. \nTo learn more about our services for Artists\, click here. \nThis free workshop is only possible thanks to our generous funders and partners.
URL:https://yesmontreal.ca/event/jump-start-your-art-4/2026-05-04/
LOCATION:YES Employment + Entrepreneurship\, 666 Sherbrooke Street West 7th Floor\, Montreal\, Quebec\, H3A 1E7\, Canada
CATEGORIES:Artists,Arts,Daytime
ORGANIZER;CN="YES Employment + Entrepreneurship":MAILTO:info@yesmontreal.ca
END:VEVENT
BEGIN:VEVENT
DTSTART;TZID=America/Toronto:20260506T183000
DTEND;TZID=America/Toronto:20260506T203000
DTSTAMP:20260422T141119
CREATED:20241213T205611Z
LAST-MODIFIED:20260115T224223Z
UID:78931-1778092200-1778099400@yesmontreal.ca
SUMMARY:The Autonomous Artist: Releasing Music in the Digital Era
DESCRIPTION:Take Control of Your Music Career: Releasing Music in the Digital Era\nAre you ready to take control of your music career and thrive as an independent artist? In today’s fast-evolving digital landscape\, mastering the art of music distribution\, promotion\, and revenue generation is essential. Join us on Wednesday\, May 6\, from 6:30 PM to 8:30 PM\, for an online workshop\, “The Autonomous Artist: Releasing Music in the Digital Era.” \nLed by Stephen Voyce\, a multi-award-winning recording artist\, this interactive session will provide you with the tools and strategies to successfully release your music\, promote it effectively\, and explore diverse revenue streams. \nKey Topics Covered\nReleasing Your Music: Digital Distribution\nLearn how to release your music across top platforms like Spotify\, Apple Music\, and YouTube Music. Discover the best practices for choosing a digital distribution service\, optimizing royalties\, and ensuring your tracks reach a global audience. \nPromoting Your Release: Word of Mouth and Social Media\nPromotion is critical to your success. Master strategies for building excitement around your music release using social media\, engaging with fans\, and leveraging word-of-mouth campaigns to amplify your reach. \nCreating Opportunities: Multiple Revenue Streams\nGo beyond streaming royalties. Explore how to generate income through licensing\, merchandise\, live performances\, collaborations\, and more\, building a sustainable career in music. \nManagers and Publicists: When and Why to Hire\nConsidering building a team? Learn when to hire managers or publicists\, how they can boost your career\, and the value they bring to your overall success without compromising your independence. \nWhy You Should Attend\nThis workshop is perfect for independent artists looking to navigate the music industry confidently. You’ll walk away with practical knowledge\, actionable steps\, and the confidence to take control of your music career. \nDon’t miss this chance to elevate your music journey. Register today! \nSign Up Now!\nGuest speaker: Stephen Voyce\, Multi-Award-Winning Recording Artist  \nAbout the speaker:\nBorn on the moon\, raised on Mars\, stuck on Earth\, reaching for the Stars  These are the words tattooed on the chest of an artist whose career has been spent looking for himself. A career that was born in darkness but\, through a journey of self-exploration\, introspection and acceptance\, found its way to a brighter tomorrow.  \nWith an ever growing following and fanbase\, multiple awards and nominations\, music releases spanning a decade\, collaborations with artists around the world\, this singer\, songwriter\, producer\, actor\, filmmaker\, science geek continues to shatter even his own expectations for himself. He’s learned to find meaning in not just his successes but also his missteps as they’ve led him to the person he is today. Through his journey he hopes to spread a message of self empowerment\, to remind the world that hope is always alive\, that that fire never truly burns out.  \nRegister Now!\n  \nPre-registration is required. This workshop is available online. \nOnce you register for the online workshop\, you will receive an email with instructions on how to log in. If you haven’t received the email an hour before the workshop starts\, please check your Spam/Junk folder. \nTo learn more about our services for Artists\, click here. \nThis low registration fee is only possible thanks to our generous funders and partners.
URL:https://yesmontreal.ca/event/take-control-music-career-releasing-music/
LOCATION:Online / Remote\, Canada
CATEGORIES:Artists,Arts,Evening,Virtual
ORGANIZER;CN="YES Employment + Entrepreneurship":MAILTO:info@yesmontreal.ca
END:VEVENT
BEGIN:VEVENT
DTSTART;TZID=America/Toronto:20260525T133000
DTEND;TZID=America/Toronto:20260525T153000
DTSTAMP:20260422T141119
CREATED:20241216T185732Z
LAST-MODIFIED:20241216T185732Z
UID:91473-1779715800-1779723000@yesmontreal.ca
SUMMARY:Jump Start Your Art + Financing Options
DESCRIPTION:  \nJump Start Your Art: Begin Your Journey to a Profitable Artistic Career\n  \nAre you ready to take your artistic passion to the next level and make a sustainable living from your creativity? Jump Start Your Art is the perfect workshop for artists who want to build a business or career around their talent but need guidance on how to get started. \n\nWhat You’ll Learn at Jump Start Your Art\nIn this free workshop\, we’ll introduce you to the essential tools\, resources\, and strategies for launching your artistic career. You’ll discover key services offered by YES and other arts organizations in the community\, as well as gain valuable insights into the arts industry. We’ll touch upon vital topics such as: \n\nIndustry Overview\nLearn about the arts industry landscape\, its challenges\, and opportunities for growth. \nMarketing and Promotion Tips\nUnderstand how to market your art effectively and reach a wider audience. \nBuilding Stakeholder Relationships\nDiscover the importance of cultivating relationships with galleries\, clients\, and collaborators. \nNavigating Funding and Grants\nGet essential tips on how to understand the funding landscape and write compelling grant proposals. \n\nPersonal Consultation for Artistic Growth\nAfter the workshop\, you’ll have the opportunity to meet one-on-one with an experienced artist coach who will help identify which services best suit your specific needs. Whether you’re a new artist or looking to grow your existing practice\, our artist coaching is designed to provide personalized guidance and actionable next steps. \nOne-on-One Artist Coaching\nA free 15-minute session with a YES Artist Coach is available for new clients to explore the services that can support your journey. Existing clients can use this time to address any small issues in their creative practice or business. \nPre-registration is required. Available in English and as an online\, live-streaming webinar. \n\nRegister Now\n  \nPlease Note: Those wishing to obtain artist coaching services are encouraged to attend this free workshop first.   \nOnce you register for the online workshop\, you will receive an email with instructions on how to log in. If you haven’t received the email an hour before the workshop starts\, please check your Spam/Junk folder. \nTo learn more about our services for Artists\, click here. \nThis free workshop is only possible thanks to our generous funders and partners.
URL:https://yesmontreal.ca/event/jump-start-your-art-2/2026-05-25/
LOCATION:Online / Remote\, Canada
CATEGORIES:Artists,Arts,Daytime,Virtual
ORGANIZER;CN="YES Employment + Entrepreneurship":MAILTO:info@yesmontreal.ca
END:VEVENT
BEGIN:VEVENT
DTSTART;TZID=America/Toronto:20260527T183000
DTEND;TZID=America/Toronto:20260527T203000
DTSTAMP:20260422T141119
CREATED:20250829T144446Z
LAST-MODIFIED:20260204T202452Z
UID:88739-1779906600-1779913800@yesmontreal.ca
SUMMARY:Grant Writing Essentials for Artists: Two-Part Series
DESCRIPTION:Grant Writing Skills for Artists: Build Your Artistic Career with Confidence\nThe Grant Writing Two‑Part Mini Series is a hands‑on workshop designed to give artists practical tools to build sustainable\, thriving careers. Strengthen your grant applications with sharper pitches\, solid budgets\, and realistic timelines. \nWhat You’ll Learn\n\nDevelop a clear\, persuasive approach to funding applications using proven grant writing skills for artists.\nLearn how to structure\, write\, and present funding proposals that stand out to juries and funders.\n\n \nWorkshop Overview\nAbout the series\nYou know art. We can teach you business. \nThis two-part workshop is designed to equip artists with practical tools to build sustainable careers. We’ll cover essential business and marketing skills tailored specifically for artists. \nDevelop your artistic practice or business strategically in order to see growth! \nPart 1: The Pitch – Wednesday\, May 27\nYour art has potential – now you must represent it on paper in a way that will captivate the reader. In the first part of this series\, you’ll learn how to craft a compelling\, context-rich pitch that jumps off the page to effectively illustrate the true value of your art project. Starting with an essential grant-writing check-list\, you’ll understand how to represent your work with clarity and persuasion. \nPart 2: Budgets + Timelines – Wednesday\, June 3\nAll winning grant applications include cohesive\, well-thought-out budgets and timelines that accurately illustrate the project from both a time and financial perspective. In this session\, we’ll focus on developing a set of best practices for crafting budgets and timelines that enhance your future grant applications and drive results. \nSpeaker\nCaroline Gauthier\, MBA\, HEC & YES Artist Business Coach \nDetails\n\nCost: $35\nFormat: In person and online (live‑streaming webinar)\nPre‑registration: Required\n\nDon’t Miss Out: Reserve Your Spot Today!\n\nSave your seat for both workshops for $35.00. This small investment could transform your funding success. \n👉 Sign up now and take a major step toward mastering grant writing. \n\nReserve Your Spot!\n\nAbout the speaker:\nCaroline Gauthier first began her training as an opera singer\, earning her music degree at Université de Montréal\, before transitioning into theatre and film. Being of an entrepreneurial spirit\, she soon began producing stage shows and short films and co‑founding a film collective\, where she saw her films selected in festivals in Canada\, Europe and the United States. After a 12-year career in arts and media\, realizing that managing and coordinating were among her core strengths\, Caroline chose to pursue her passion for business by completing an MBA at HEC Montreal. \nKnown for her practicality\, empathy\, and rigor as well as her analytical mindset\, Caroline has long combined her creative sensibilities with a highly rational approach to move projects forward in both artistic and nonprofit contexts. \nAs a YES artist business coach\, she brings structure\, vision\, and follow‑through to artists and creative entrepreneurs\, helping them develop their projects from ideation to completion. \nPre‑registration is required. This workshop is presented in English and is available in person and as an online\, live‑streaming webinar. \nIf attending in person\, please arrive at the YES office (666 Sherbrooke Street West\, 7th floor) 15–30 minutes before the workshop begins. \nOnline participants will receive login instructions a few hours before the start. If you do not see the email\, please check your Spam or Junk folder. \nTo learn more about our services for artists\, click here. \nThis low registration fee is made possible thanks to our generous funders and partners.
URL:https://yesmontreal.ca/event/grant-writing-essentials-for-artists/
LOCATION:YES Employment + Entrepreneurship\, 666 Sherbrooke Street West 7th Floor\, Montreal\, Quebec\, H3A 1E7\, Canada
CATEGORIES:Artists,Arts,Evening
ORGANIZER;CN="YES Employment + Entrepreneurship":MAILTO:info@yesmontreal.ca
END:VEVENT
BEGIN:VEVENT
DTSTART;TZID=America/Toronto:20260615T133000
DTEND;TZID=America/Toronto:20260615T153000
DTSTAMP:20260422T141119
CREATED:20251204T154853Z
LAST-MODIFIED:20251209T154837Z
UID:91516-1781530200-1781537400@yesmontreal.ca
SUMMARY:Jump Start Your Art + Financing Options
DESCRIPTION:  \nJump Start Your Art: Begin Your Journey to a Profitable Artistic Career\n  \nAre you ready to take your artistic passion to the next level and make a sustainable living from your creativity? Jump Start Your Art is the perfect workshop for artists who want to build a business or career around their talent but need guidance on how to get started. \n\nWhat You’ll Learn at Jump Start Your Art\nIn this free workshop\, we’ll introduce you to the essential tools\, resources\, and strategies for launching your artistic career. You’ll discover key services offered by YES and other arts organizations in the community\, as well as gain valuable insights into the arts industry. We’ll touch upon vital topics such as: \n\nIndustry Overview\nLearn about the arts industry landscape\, its challenges\, and opportunities for growth. \nMarketing and Promotion Tips\nUnderstand how to market your art effectively and reach a wider audience. \nBuilding Stakeholder Relationships\nDiscover the importance of cultivating relationships with galleries\, clients\, and collaborators. \nNavigating Funding and Grants\nGet essential tips on how to understand the funding landscape and write compelling grant proposals. \n\nPersonal Consultation for Artistic Growth\nAfter the workshop\, you’ll have the opportunity to meet one-on-one with an experienced artist coach who will help identify which services best suit your specific needs. Whether you’re a new artist or looking to grow your existing practice\, our artist coaching is designed to provide personalized guidance and actionable next steps. \nOne-on-One Artist Coaching\nA free 15-minute session with a YES Artist Coach is available for new clients to explore the services that can support your journey. Existing clients can use this time to address any small issues in their creative practice or business. \nPre-registration is required. Available as an in-person workshop. \n\nRegister Now\n  \nPlease Note: Those wishing to obtain artist coaching services are encouraged to attend this free workshop first.   \nOnce you have registered for the in-person workshop\, please arrive at the YES office\, located at 666 Sherbrooke Street West\, 7th floor\, 15–30 minutes before the workshop begins. \nTo learn more about our services for Artists\, click here. \nThis free workshop is only possible thanks to our generous funders and partners.
URL:https://yesmontreal.ca/event/jump-start-your-art-4/2026-06-15/
LOCATION:YES Employment + Entrepreneurship\, 666 Sherbrooke Street West 7th Floor\, Montreal\, Quebec\, H3A 1E7\, Canada
CATEGORIES:Artists,Arts,Daytime
ORGANIZER;CN="YES Employment + Entrepreneurship":MAILTO:info@yesmontreal.ca
END:VEVENT
BEGIN:VEVENT
DTSTART;TZID=America/Toronto:20260727T133000
DTEND;TZID=America/Toronto:20260727T153000
DTSTAMP:20260422T141119
CREATED:20241216T185732Z
LAST-MODIFIED:20241216T185732Z
UID:91474-1785159000-1785166200@yesmontreal.ca
SUMMARY:Jump Start Your Art + Financing Options
DESCRIPTION:  \nJump Start Your Art: Begin Your Journey to a Profitable Artistic Career\n  \nAre you ready to take your artistic passion to the next level and make a sustainable living from your creativity? Jump Start Your Art is the perfect workshop for artists who want to build a business or career around their talent but need guidance on how to get started. \n\nWhat You’ll Learn at Jump Start Your Art\nIn this free workshop\, we’ll introduce you to the essential tools\, resources\, and strategies for launching your artistic career. You’ll discover key services offered by YES and other arts organizations in the community\, as well as gain valuable insights into the arts industry. We’ll touch upon vital topics such as: \n\nIndustry Overview\nLearn about the arts industry landscape\, its challenges\, and opportunities for growth. \nMarketing and Promotion Tips\nUnderstand how to market your art effectively and reach a wider audience. \nBuilding Stakeholder Relationships\nDiscover the importance of cultivating relationships with galleries\, clients\, and collaborators. \nNavigating Funding and Grants\nGet essential tips on how to understand the funding landscape and write compelling grant proposals. \n\nPersonal Consultation for Artistic Growth\nAfter the workshop\, you’ll have the opportunity to meet one-on-one with an experienced artist coach who will help identify which services best suit your specific needs. Whether you’re a new artist or looking to grow your existing practice\, our artist coaching is designed to provide personalized guidance and actionable next steps. \nOne-on-One Artist Coaching\nA free 15-minute session with a YES Artist Coach is available for new clients to explore the services that can support your journey. Existing clients can use this time to address any small issues in their creative practice or business. \nPre-registration is required. Available in English and as an online\, live-streaming webinar. \n\nRegister Now\n  \nPlease Note: Those wishing to obtain artist coaching services are encouraged to attend this free workshop first.   \nOnce you register for the online workshop\, you will receive an email with instructions on how to log in. If you haven’t received the email an hour before the workshop starts\, please check your Spam/Junk folder. \nTo learn more about our services for Artists\, click here. \nThis free workshop is only possible thanks to our generous funders and partners.
URL:https://yesmontreal.ca/event/jump-start-your-art-2/2026-07-27/
LOCATION:Online / Remote\, Canada
CATEGORIES:Artists,Arts,Daytime,Virtual
ORGANIZER;CN="YES Employment + Entrepreneurship":MAILTO:info@yesmontreal.ca
END:VEVENT
BEGIN:VEVENT
DTSTART;TZID=America/Toronto:20260817T133000
DTEND;TZID=America/Toronto:20260817T153000
DTSTAMP:20260422T141119
CREATED:20251204T154853Z
LAST-MODIFIED:20251209T154841Z
UID:91517-1786973400-1786980600@yesmontreal.ca
SUMMARY:Jump Start Your Art + Financing Options
DESCRIPTION:  \nJump Start Your Art: Begin Your Journey to a Profitable Artistic Career\n  \nAre you ready to take your artistic passion to the next level and make a sustainable living from your creativity? Jump Start Your Art is the perfect workshop for artists who want to build a business or career around their talent but need guidance on how to get started. \n\nWhat You’ll Learn at Jump Start Your Art\nIn this free workshop\, we’ll introduce you to the essential tools\, resources\, and strategies for launching your artistic career. You’ll discover key services offered by YES and other arts organizations in the community\, as well as gain valuable insights into the arts industry. We’ll touch upon vital topics such as: \n\nIndustry Overview\nLearn about the arts industry landscape\, its challenges\, and opportunities for growth. \nMarketing and Promotion Tips\nUnderstand how to market your art effectively and reach a wider audience. \nBuilding Stakeholder Relationships\nDiscover the importance of cultivating relationships with galleries\, clients\, and collaborators. \nNavigating Funding and Grants\nGet essential tips on how to understand the funding landscape and write compelling grant proposals. \n\nPersonal Consultation for Artistic Growth\nAfter the workshop\, you’ll have the opportunity to meet one-on-one with an experienced artist coach who will help identify which services best suit your specific needs. Whether you’re a new artist or looking to grow your existing practice\, our artist coaching is designed to provide personalized guidance and actionable next steps. \nOne-on-One Artist Coaching\nA free 15-minute session with a YES Artist Coach is available for new clients to explore the services that can support your journey. Existing clients can use this time to address any small issues in their creative practice or business. \nPre-registration is required. Available as an in-person workshop. \n\nRegister Now\n  \nPlease Note: Those wishing to obtain artist coaching services are encouraged to attend this free workshop first.   \nOnce you have registered for the in-person workshop\, please arrive at the YES office\, located at 666 Sherbrooke Street West\, 7th floor\, 15–30 minutes before the workshop begins. \nTo learn more about our services for Artists\, click here. \nThis free workshop is only possible thanks to our generous funders and partners.
URL:https://yesmontreal.ca/event/jump-start-your-art-4/2026-08-17/
LOCATION:YES Employment + Entrepreneurship\, 666 Sherbrooke Street West 7th Floor\, Montreal\, Quebec\, H3A 1E7\, Canada
CATEGORIES:Artists,Arts,Daytime
ORGANIZER;CN="YES Employment + Entrepreneurship":MAILTO:info@yesmontreal.ca
END:VEVENT
END:VCALENDAR