BEGIN:VCALENDAR
VERSION:2.0
PRODID:-//YES Employment and Entrepreneurship - ECPv6.15.20//NONSGML v1.0//EN
CALSCALE:GREGORIAN
METHOD:PUBLISH
X-ORIGINAL-URL:https://yesmontreal.ca
X-WR-CALDESC:Events for YES Employment and Entrepreneurship
REFRESH-INTERVAL;VALUE=DURATION:PT1H
X-Robots-Tag:noindex
X-PUBLISHED-TTL:PT1H
BEGIN:VTIMEZONE
TZID:America/Toronto
BEGIN:DAYLIGHT
TZOFFSETFROM:-0500
TZOFFSETTO:-0400
TZNAME:EDT
DTSTART:20250309T070000
END:DAYLIGHT
BEGIN:STANDARD
TZOFFSETFROM:-0400
TZOFFSETTO:-0500
TZNAME:EST
DTSTART:20251102T060000
END:STANDARD
BEGIN:DAYLIGHT
TZOFFSETFROM:-0500
TZOFFSETTO:-0400
TZNAME:EDT
DTSTART:20260308T070000
END:DAYLIGHT
BEGIN:STANDARD
TZOFFSETFROM:-0400
TZOFFSETTO:-0500
TZNAME:EST
DTSTART:20261101T060000
END:STANDARD
BEGIN:DAYLIGHT
TZOFFSETFROM:-0500
TZOFFSETTO:-0400
TZNAME:EDT
DTSTART:20270314T070000
END:DAYLIGHT
BEGIN:STANDARD
TZOFFSETFROM:-0400
TZOFFSETTO:-0500
TZNAME:EST
DTSTART:20271107T060000
END:STANDARD
END:VTIMEZONE
BEGIN:VEVENT
DTSTART;TZID=America/Toronto:20260113T120000
DTEND;TZID=America/Toronto:20260113T130000
DTSTAMP:20260423T143013
CREATED:20250805T203023Z
LAST-MODIFIED:20260324T151731Z
UID:90764-1768305600-1768309200@yesmontreal.ca
SUMMARY:Career Check-In
DESCRIPTION:Book Your Free Career Check-In | Get Job Search Support in 15 Minutes\nSometimes\, all it takes is a quick conversation to get unstuck. Are you wondering if your CV is working\, do you need a cover letter\, are unsure how to answer a tricky interview question\, or just need a sounding board? These drop-in consults are your chance to get personalized\, no-pressure support—right on your lunch break. \nCareer Check-In sessions are a great way to get personalized\, fast\, and practical job search support without a long wait or big commitment. Whether you’re unsure if your resume is effective\, stuck on writing a cover letter\, preparing for an interview\, or just need guidance to move forward\, this 15-minute check-in could be exactly what you need. \nFast\, Focused\, Personalized Help\nCareer Check-Ins are offered on select Tuesdays and Thursdays from 12:00 PM–1:00 PM. Appointments are designed to fit into your lunch hour. Our employment experts will meet with you one-on-one to address your specific questions and concerns. It’s a chance to get tailored advice on job search strategies\, applications\, interview prep\, and more. \nOpen to All Job Seekers\nThis service is free and open to all job seekers. Whether you’re just getting started\, transitioning into a new field\, or stuck in a rut. A quick conversation can go a long way in giving you clarity and motivation to take your next steps with confidence. \nBook your free Career Check-In and take a small but powerful step forward in your job search journey today. \nPre-registration is required.  \n💡 Important: These sessions are open to Quebec residents only. \nSpaces are limited\, and booking is required. \nFor more information or to reserve your spot\, email us. \nFind out more about our Employment Services here. \n*We are located at 666 Sherbrooke Street West\, 7th floor.
URL:https://yesmontreal.ca/event/get-job-search-support-in-15-minutes/2026-01-13/
LOCATION:Online / Remote\, Canada
CATEGORIES:Daytime,Employment
ORGANIZER;CN="YES Employment + Entrepreneurship":MAILTO:info@yesmontreal.ca
END:VEVENT
BEGIN:VEVENT
DTSTART;TZID=America/Toronto:20260113T183000
DTEND;TZID=America/Toronto:20260113T203000
DTSTAMP:20260423T143013
CREATED:20250820T143334Z
LAST-MODIFIED:20260106T155247Z
UID:88416-1768329000-1768336200@yesmontreal.ca
SUMMARY:Bookkeeping Essentials for Launching Your Business
DESCRIPTION:Learn Bookkeeping Essentials to Launch and Grow Your Business\n \nBookkeeping Essentials for Launching Your Business\nDate & Time: Tuesday\, January 13\, 6:30 PM – 8:30 PM\nFormat: Online\nCost: $20 \nSpeaker: Maria Durant | Certified Bookkeeper and Vocational Accounting Teacher \nWhy Bookkeeping Matters\nStarting a business is exciting\, but without a strong financial foundation\, success can quickly slip away. That’s why it’s vital to learn bookkeeping essentials to launch and grow your business. This workshop is designed to help entrepreneurs\, freelancers\, and small business owners understand the fundamentals of bookkeeping and build lasting financial confidence. \nBookkeeping is more than just number crunching—it’s the backbone of a thriving business. Proper bookkeeping allows you to: \n\nMonitor your business growth\nCreate accurate financial statements\nTrack deductible expenses\nPrepare tax returns with confidence\nLegitimize your filings with government authorities\n\nEven if you choose to outsource your bookkeeping\, having a working knowledge of the essentials ensures you remain in control of your business operations. \nWhat You’ll Learn\nIn this interactive session\, you’ll gain clarity on: \n\nThe difference between Bookkeepers and Accountants\nHow to set up your bookkeeping system from registering your business number to GST/QST compliance\nPreparing and filing your taxes correctly\nThe pros and cons of the top three bookkeeping software solutions\n\nWhy Attend?\nUnderstanding the steps of bookkeeping will give you the confidence that you’ve covered your bases. By participating in this workshop\, you’ll leave with practical strategies and the assurance that your business finances are in order. Whether you’re launching a new business or looking to improve your current systems\, this session will equip you with the knowledge you need. \nDon’t miss this opportunity to learn bookkeeping essentials to launch and grow your business. Secure your spot today and unlock a wealth of invaluable insights and resources for only $20.00* \nPre-registration is required \nRegister Now!\nThis workshop is available online and is available in English. \n \nAbout the speaker\nMaria Durant has over 15 years of experience as a bookkeeper\, which has led her to work with many notable businesses throughout Montreal\, the US\, and internationally. Maria Durant\, who owns and operates her own small business\, has shown that a thorough bookkeeping system is essential for the success of any business. Along with her role as an entrepreneur and bookkeeper\, Maria Durant is also a vocational accounting teacher. \nThrough her commitment to teaching\, she has been able to leverage her experience as a bookkeeper and provide students with the hands-on approach they need to be successful in the accounting program. \nIn addition to raising her children\, Maria Durant studies part-time at the University of Sherbrooke\, where she plans to earn a bachelor’s degree in Professional Education. \nOnce you have registered for the online workshop\, you will receive an email with instructions on how to log on a few hours prior to the start time of the workshop. Please check your Spam/Junk folder if you have not received your email with instructions 1 hour prior to the start time of the workshop. \n*This low registration fee is only possible thanks to our generous funders and partners. \nTo learn more about our services for entrepreneurs\, click here. \nThe Community Empowerment Literacy Initiative (CELI) is sponsored by TALQ in collaboration with Literacy Quebec and funded in part by the Government of Canada’s Skills for Success Program. \n \n 
URL:https://yesmontreal.ca/event/learn-bookkeeping-essentials-to-launch-and-grow-your-business/
LOCATION:Online / Remote\, Canada
CATEGORIES:Entrepreneurship,Evening,Virtual
ORGANIZER;CN="YES Employment + Entrepreneurship":MAILTO:info@yesmontreal.ca
END:VEVENT
END:VCALENDAR