BEGIN:VCALENDAR
VERSION:2.0
PRODID:-//YES Employment and Entrepreneurship - ECPv6.15.20//NONSGML v1.0//EN
CALSCALE:GREGORIAN
METHOD:PUBLISH
X-WR-CALNAME:YES Employment and Entrepreneurship
X-ORIGINAL-URL:https://yesmontreal.ca
X-WR-CALDESC:Events for YES Employment and Entrepreneurship
REFRESH-INTERVAL;VALUE=DURATION:PT1H
X-Robots-Tag:noindex
X-PUBLISHED-TTL:PT1H
BEGIN:VTIMEZONE
TZID:America/Toronto
BEGIN:DAYLIGHT
TZOFFSETFROM:-0500
TZOFFSETTO:-0400
TZNAME:EDT
DTSTART:20240310T070000
END:DAYLIGHT
BEGIN:STANDARD
TZOFFSETFROM:-0400
TZOFFSETTO:-0500
TZNAME:EST
DTSTART:20241103T060000
END:STANDARD
BEGIN:DAYLIGHT
TZOFFSETFROM:-0500
TZOFFSETTO:-0400
TZNAME:EDT
DTSTART:20250309T070000
END:DAYLIGHT
BEGIN:STANDARD
TZOFFSETFROM:-0400
TZOFFSETTO:-0500
TZNAME:EST
DTSTART:20251102T060000
END:STANDARD
BEGIN:DAYLIGHT
TZOFFSETFROM:-0500
TZOFFSETTO:-0400
TZNAME:EDT
DTSTART:20260308T070000
END:DAYLIGHT
BEGIN:STANDARD
TZOFFSETFROM:-0400
TZOFFSETTO:-0500
TZNAME:EST
DTSTART:20261101T060000
END:STANDARD
END:VTIMEZONE
BEGIN:VEVENT
DTSTART;TZID=America/Toronto:20250526T090000
DTEND;TZID=America/Toronto:20250526T170000
DTSTAMP:20260419T153944
CREATED:20240813T185026Z
LAST-MODIFIED:20251209T163317Z
UID:84590-1748250000-1748278800@yesmontreal.ca
SUMMARY:Legal Information Clinic
DESCRIPTION:Free Legal Information Clinics for Entrepreneurs\nAre you an entrepreneur with legal questions? Our free weekly Legal Information Clinics for Entrepreneurs provide essential information on key legal topics such as business structures\, contract law\, taxation\, intellectual property\, and more. Whether you’re just starting out or managing a growing business\, these clinics help you navigate the legal aspects of entrepreneurship with clarity. \nWhy Legal Knowledge is Crucial for Entrepreneurs\nLegal challenges can become significant barriers to business success. From choosing the right business structure to understanding tax obligations\, having a clear understanding of your legal options can save you time and prevent costly mistakes. Addressing legal matters early on helps you reduce risks and focus on growing your business with confidence. The Legal Information Officer at YES is available to help you research your legal questions\, empowering you to make informed decisions. They can provide valuable information on topics like business structures\, contracts\, intellectual property\, and more\, pointing you to helpful resources tailored to your needs. \nWhether you need help understanding contracts\, interpreting clauses\, or preparing for future legal discussions\, the Legal Information Officer is here to support you. Having a strong grasp of the legal side of your business is essential for long-term success. Our clinics offer the insights you need to make informed decisions and avoid common legal pitfalls. The Legal Information Officer can also serve as a sounding board for your ideas\, helping you figure out the next steps. If you’re planning to consult with a lawyer\, they can assist you in preparing your questions\, ensuring you’re ready for a productive meeting. 🎥 Watch this video for a sneak peek at what you can expect! \nhttps://yesmontreal.ca/wp-content/uploads/Legal_Clinic_Expectations_Ready-1.mp4\n  \nClinic Details & How to Register\n\nSpeaker: Kayne Chan Yin-Li Yen Pin\, Legal Information Officer\nTo register: Email servicescoordinator@yesmontreal.ca\nPre-booking required: Clinics must be pre-booked.\nReferral required: A YES Business Coach referral is required.\n\nNote: Clinics are by appointment only\, so make sure to book your spot in advance. \nAdditional Services for Just $30 Annually\nFor just $30 annually\, you can access a wide range of valuable services\, including: \n\nCoaching\nBusiness Bootcamp\nLegal Information & Accounting Clinics\nAnd much more!\n\nTo learn more about our other services\, visit our Business Bootcamp or Coaching Services pages.
URL:https://yesmontreal.ca/event/legal-information-clinic-for-entrepreneurs-4/2025-05-26/
LOCATION:YES Employment + Entrepreneurship\, 666 Sherbrooke Street West 7th Floor\, Montreal\, Quebec\, H3A 1E7\, Canada
CATEGORIES:Daytime,Entrepreneurship
ORGANIZER;CN="YES Employment + Entrepreneurship":MAILTO:info@yesmontreal.ca
END:VEVENT
BEGIN:VEVENT
DTSTART;TZID=America/Toronto:20250526T120000
DTEND;TZID=America/Toronto:20250526T130000
DTSTAMP:20260419T153944
CREATED:20250318T183134Z
LAST-MODIFIED:20250617T185937Z
UID:82968-1748260800-1748264400@yesmontreal.ca
SUMMARY:Drop-In Sessions for Job Seekers
DESCRIPTION:  \nGet Expert Job Search Advice – Free Drop-In Sessions for Job Seekers\n  \nStruggling with Your Job Search? Unsure of Your Next Steps?\nGet expert job search advice whether you’re updating your CV and need expert feedback\, struggling to craft a cover letter that grabs employers’ attention\, or wondering how to make your LinkedIn profile stand out\, we’re here to help! Our free Drop-In Sessions for Job Seekers offer personalized guidance to help you navigate the job market with confidence. \nMaybe you’re preparing for an upcoming job interview and want to sharpen your responses\, or perhaps you’re worried about how to address employment gaps on your resume. No matter the challenge\, our experienced Employment Counsellors are ready to help! They can provide the insights and strategies you need to make a strong impression and land your next opportunity. \n  \nHow Our Free Drop-In Sessions Work\nOur 15-minute consultations give you direct access to an experienced Employment Counsellor. They can answer your pressing questions and provide practical solutions. If you don’t already have an Employment Counsellor or need last-minute job search help\, this is the perfect opportunity to get professional guidance. \n  \nWhat You Can Get Help With\n🔹 CV & Cover Letter Reviews – Learn how to tailor your application to stand out.\n🔹 LinkedIn Profile Optimization – Make your profile employer-ready.\n🔹 Interview Preparation – Get tips to answer tough questions with confidence.\n🔹 Addressing Employment Gaps – Learn how to position career breaks effectively. \n  \nBook Your Free Drop-In Session Today!\nTake advantage of this free job search support and get expert help when you need it. Don’t miss this chance to move forward in your career. Book your free Drop-In Session for Job Seekers today! \n📅 Available Monday – Thursday⏰ 12:00 PM – 1:00 PM📍 Pre-registration is required \n💡 Important: These sessions are open to Quebec residents only. \nSpaces are limited\, and booking is required. \nFor more information or to reserve your spot\, email us. \nFind out more about our Employment Services here.
URL:https://yesmontreal.ca/event/get-expert-job-search-advice/2025-05-26/
LOCATION:Online / Remote\, Canada
CATEGORIES:Daytime,Employment,Virtual
ORGANIZER;CN="YES Employment + Entrepreneurship":MAILTO:info@yesmontreal.ca
END:VEVENT
BEGIN:VEVENT
DTSTART;TZID=America/Toronto:20250526T133000
DTEND;TZID=America/Toronto:20250526T153000
DTSTAMP:20260419T153944
CREATED:20241216T185732Z
LAST-MODIFIED:20251203T211513Z
UID:79233-1748266200-1748273400@yesmontreal.ca
SUMMARY:Jump Start Your Art + Financing Options
DESCRIPTION:  \nJump Start Your Art: Begin Your Journey to a Profitable Artistic Career\n  \nAre you ready to take your artistic passion to the next level and make a sustainable living from your creativity? Jump Start Your Art is the perfect workshop for artists who want to build a business or career around their talent but need guidance on how to get started. \n\nWhat You’ll Learn at Jump Start Your Art\nIn this free workshop\, we’ll introduce you to the essential tools\, resources\, and strategies for launching your artistic career. You’ll discover key services offered by YES and other arts organizations in the community\, as well as gain valuable insights into the arts industry. We’ll touch upon vital topics such as: \n\nIndustry Overview\nLearn about the arts industry landscape\, its challenges\, and opportunities for growth. \nMarketing and Promotion Tips\nUnderstand how to market your art effectively and reach a wider audience. \nBuilding Stakeholder Relationships\nDiscover the importance of cultivating relationships with galleries\, clients\, and collaborators. \nNavigating Funding and Grants\nGet essential tips on how to understand the funding landscape and write compelling grant proposals. \n\nPersonal Consultation for Artistic Growth\nAfter the workshop\, you’ll have the opportunity to meet one-on-one with an experienced artist coach who will help identify which services best suit your specific needs. Whether you’re a new artist or looking to grow your existing practice\, our artist coaching is designed to provide personalized guidance and actionable next steps. \nOne-on-One Artist Coaching\nA free 15-minute session with a YES Artist Coach is available for new clients to explore the services that can support your journey. Existing clients can use this time to address any small issues in their creative practice or business. \nPre-registration is required. Available in English and as an online\, live-streaming webinar. \n\nRegister Now\n  \nPlease Note: Those wishing to obtain artist coaching services are encouraged to attend this free workshop first.   \nOnce you register for the online workshop\, you will receive an email with instructions on how to log in. If you haven’t received the email an hour before the workshop starts\, please check your Spam/Junk folder. \nTo learn more about our services for Artists\, click here. \nThis free workshop is only possible thanks to our generous funders and partners.
URL:https://yesmontreal.ca/event/jump-start-your-art-2/2025-05-26/
LOCATION:Online / Remote\, Canada
CATEGORIES:Artists,Arts,Daytime,Virtual
ORGANIZER;CN="YES Employment + Entrepreneurship":MAILTO:info@yesmontreal.ca
END:VEVENT
END:VCALENDAR