BEGIN:VCALENDAR
VERSION:2.0
PRODID:-//YES Employment and Entrepreneurship - ECPv6.15.20//NONSGML v1.0//EN
CALSCALE:GREGORIAN
METHOD:PUBLISH
X-ORIGINAL-URL:https://yesmontreal.ca
X-WR-CALDESC:Events for YES Employment and Entrepreneurship
REFRESH-INTERVAL;VALUE=DURATION:PT1H
X-Robots-Tag:noindex
X-PUBLISHED-TTL:PT1H
BEGIN:VTIMEZONE
TZID:America/Toronto
BEGIN:DAYLIGHT
TZOFFSETFROM:-0500
TZOFFSETTO:-0400
TZNAME:EDT
DTSTART:20240310T070000
END:DAYLIGHT
BEGIN:STANDARD
TZOFFSETFROM:-0400
TZOFFSETTO:-0500
TZNAME:EST
DTSTART:20241103T060000
END:STANDARD
BEGIN:DAYLIGHT
TZOFFSETFROM:-0500
TZOFFSETTO:-0400
TZNAME:EDT
DTSTART:20250309T070000
END:DAYLIGHT
BEGIN:STANDARD
TZOFFSETFROM:-0400
TZOFFSETTO:-0500
TZNAME:EST
DTSTART:20251102T060000
END:STANDARD
BEGIN:DAYLIGHT
TZOFFSETFROM:-0500
TZOFFSETTO:-0400
TZNAME:EDT
DTSTART:20260308T070000
END:DAYLIGHT
BEGIN:STANDARD
TZOFFSETFROM:-0400
TZOFFSETTO:-0500
TZNAME:EST
DTSTART:20261101T060000
END:STANDARD
END:VTIMEZONE
BEGIN:VEVENT
DTSTART;TZID=America/Toronto:20250512T090000
DTEND;TZID=America/Toronto:20250512T170000
DTSTAMP:20260424T105207
CREATED:20240813T185026Z
LAST-MODIFIED:20251209T163314Z
UID:84587-1747040400-1747069200@yesmontreal.ca
SUMMARY:Legal Information Clinic
DESCRIPTION:Free Legal Information Clinics for Entrepreneurs\nAre you an entrepreneur with legal questions? Our free weekly Legal Information Clinics for Entrepreneurs provide essential information on key legal topics such as business structures\, contract law\, taxation\, intellectual property\, and more. Whether you’re just starting out or managing a growing business\, these clinics help you navigate the legal aspects of entrepreneurship with clarity. \nWhy Legal Knowledge is Crucial for Entrepreneurs\nLegal challenges can become significant barriers to business success. From choosing the right business structure to understanding tax obligations\, having a clear understanding of your legal options can save you time and prevent costly mistakes. Addressing legal matters early on helps you reduce risks and focus on growing your business with confidence. The Legal Information Officer at YES is available to help you research your legal questions\, empowering you to make informed decisions. They can provide valuable information on topics like business structures\, contracts\, intellectual property\, and more\, pointing you to helpful resources tailored to your needs. \nWhether you need help understanding contracts\, interpreting clauses\, or preparing for future legal discussions\, the Legal Information Officer is here to support you. Having a strong grasp of the legal side of your business is essential for long-term success. Our clinics offer the insights you need to make informed decisions and avoid common legal pitfalls. The Legal Information Officer can also serve as a sounding board for your ideas\, helping you figure out the next steps. If you’re planning to consult with a lawyer\, they can assist you in preparing your questions\, ensuring you’re ready for a productive meeting. 🎥 Watch this video for a sneak peek at what you can expect! \nhttps://yesmontreal.ca/wp-content/uploads/Legal_Clinic_Expectations_Ready-1.mp4\n  \nClinic Details & How to Register\n\nSpeaker: Kayne Chan Yin-Li Yen Pin\, Legal Information Officer\nTo register: Email servicescoordinator@yesmontreal.ca\nPre-booking required: Clinics must be pre-booked.\nReferral required: A YES Business Coach referral is required.\n\nNote: Clinics are by appointment only\, so make sure to book your spot in advance. \nAdditional Services for Just $30 Annually\nFor just $30 annually\, you can access a wide range of valuable services\, including: \n\nCoaching\nBusiness Bootcamp\nLegal Information & Accounting Clinics\nAnd much more!\n\nTo learn more about our other services\, visit our Business Bootcamp or Coaching Services pages.
URL:https://yesmontreal.ca/event/legal-information-clinic-for-entrepreneurs-4/2025-05-12/
LOCATION:YES Employment + Entrepreneurship\, 666 Sherbrooke Street West 7th Floor\, Montreal\, Quebec\, H3A 1E7\, Canada
CATEGORIES:Daytime,Entrepreneurship
ORGANIZER;CN="YES Employment + Entrepreneurship":MAILTO:info@yesmontreal.ca
END:VEVENT
BEGIN:VEVENT
DTSTART;TZID=America/Toronto:20250512T120000
DTEND;TZID=America/Toronto:20250512T130000
DTSTAMP:20260424T105207
CREATED:20250318T183134Z
LAST-MODIFIED:20250617T185911Z
UID:82960-1747051200-1747054800@yesmontreal.ca
SUMMARY:Drop-In Sessions for Job Seekers
DESCRIPTION:  \nGet Expert Job Search Advice – Free Drop-In Sessions for Job Seekers\n  \nStruggling with Your Job Search? Unsure of Your Next Steps?\nGet expert job search advice whether you’re updating your CV and need expert feedback\, struggling to craft a cover letter that grabs employers’ attention\, or wondering how to make your LinkedIn profile stand out\, we’re here to help! Our free Drop-In Sessions for Job Seekers offer personalized guidance to help you navigate the job market with confidence. \nMaybe you’re preparing for an upcoming job interview and want to sharpen your responses\, or perhaps you’re worried about how to address employment gaps on your resume. No matter the challenge\, our experienced Employment Counsellors are ready to help! They can provide the insights and strategies you need to make a strong impression and land your next opportunity. \n  \nHow Our Free Drop-In Sessions Work\nOur 15-minute consultations give you direct access to an experienced Employment Counsellor. They can answer your pressing questions and provide practical solutions. If you don’t already have an Employment Counsellor or need last-minute job search help\, this is the perfect opportunity to get professional guidance. \n  \nWhat You Can Get Help With\n🔹 CV & Cover Letter Reviews – Learn how to tailor your application to stand out.\n🔹 LinkedIn Profile Optimization – Make your profile employer-ready.\n🔹 Interview Preparation – Get tips to answer tough questions with confidence.\n🔹 Addressing Employment Gaps – Learn how to position career breaks effectively. \n  \nBook Your Free Drop-In Session Today!\nTake advantage of this free job search support and get expert help when you need it. Don’t miss this chance to move forward in your career. Book your free Drop-In Session for Job Seekers today! \n📅 Available Monday – Thursday⏰ 12:00 PM – 1:00 PM📍 Pre-registration is required \n💡 Important: These sessions are open to Quebec residents only. \nSpaces are limited\, and booking is required. \nFor more information or to reserve your spot\, email us. \nFind out more about our Employment Services here.
URL:https://yesmontreal.ca/event/get-expert-job-search-advice/2025-05-12/
LOCATION:Online / Remote\, Canada
CATEGORIES:Daytime,Employment,Virtual
ORGANIZER;CN="YES Employment + Entrepreneurship":MAILTO:info@yesmontreal.ca
END:VEVENT
BEGIN:VEVENT
DTSTART;TZID=America/Toronto:20250512T130000
DTEND;TZID=America/Toronto:20250512T143000
DTSTAMP:20260424T105207
CREATED:20241210T193347Z
LAST-MODIFIED:20260105T173108Z
UID:78172-1747054800-1747060200@yesmontreal.ca
SUMMARY:Demystifying Business Registration for Artists
DESCRIPTION:Demystifying Business Registration for Artists: Formalize Your Creative Business\n  \nAre you an artist looking to formalize your creative business but unsure where to start? Join our free workshop\, Demystifying Business Registration for Artists\, and gain the knowledge you need to take your art career to the next level. \n\nWhy Register Your Creative Business?\nWhether you’re a painter\, musician\, writer\, or any other type of creative\, understanding the business side of your craft is essential. This workshop will help you: \n\nUnderstand the distinctions between business registration\, incorporation\, and tax numbers.\nExplore the legal and accounting implications of each step.\nLearn about tax rates and obligations to ensure compliance.\n\n\nWorkshop Details\nDates & Times: \n\nMondays: January 19\, March 2\, April 20\nTime: 11:30 AM – 1:00 PM (Online)\n\n\n\nWhat You’ll Learn\nDuring this interactive workshop\, we’ll cover: \n\nBusiness Structures: Learn the differences between sole proprietorship\, partnerships\, and incorporation\, and what’s best for your art practice.\nTax Essentials: Get a clear understanding of tax obligations\, rates\, and how to obtain a tax number.\nKey Steps and Timelines: Discover what is mandatory\, what is optional\, and when to act.\n\n\n  \nWho Should Attend\nThis workshop is perfect for artists at any stage of their careers who want to: \n\nTransition from hobbyist to professional.\nEnsure their business meets legal and financial requirements.\nGain confidence in navigating the complexities of business registration.\n\n\n\nReady to Take the Next Step?\nFormalizing your art business doesn’t have to be daunting. Register for Demystifying Business Registration for Artists today and start building a professional foundation for your creative career. \n\n\nRegister Now!\n\n  \nPre-registration is required. This workshop is available online. \nOnce you register for the online workshop\, you will receive an email with instructions on how to log in. If you haven’t received the email an hour before the workshop starts\, please check your Spam/Junk folder. \nTo learn more about our services for Artists\, click here. \nThis low registration fee is only possible thanks to our generous funders and partners.
URL:https://yesmontreal.ca/event/demystifying-business-registration-for-artists/2025-05-12/
LOCATION:Online / Remote\, Canada
CATEGORIES:Arts,Daytime,Virtual
ORGANIZER;CN="YES Employment + Entrepreneurship":MAILTO:info@yesmontreal.ca
END:VEVENT
END:VCALENDAR