BEGIN:VCALENDAR
VERSION:2.0
PRODID:-//YES Employment and Entrepreneurship - ECPv6.15.20//NONSGML v1.0//EN
CALSCALE:GREGORIAN
METHOD:PUBLISH
X-ORIGINAL-URL:https://yesmontreal.ca
X-WR-CALDESC:Events for YES Employment and Entrepreneurship
REFRESH-INTERVAL;VALUE=DURATION:PT1H
X-Robots-Tag:noindex
X-PUBLISHED-TTL:PT1H
BEGIN:VTIMEZONE
TZID:America/Toronto
BEGIN:DAYLIGHT
TZOFFSETFROM:-0500
TZOFFSETTO:-0400
TZNAME:EDT
DTSTART:20240310T070000
END:DAYLIGHT
BEGIN:STANDARD
TZOFFSETFROM:-0400
TZOFFSETTO:-0500
TZNAME:EST
DTSTART:20241103T060000
END:STANDARD
BEGIN:DAYLIGHT
TZOFFSETFROM:-0500
TZOFFSETTO:-0400
TZNAME:EDT
DTSTART:20250309T070000
END:DAYLIGHT
BEGIN:STANDARD
TZOFFSETFROM:-0400
TZOFFSETTO:-0500
TZNAME:EST
DTSTART:20251102T060000
END:STANDARD
BEGIN:DAYLIGHT
TZOFFSETFROM:-0500
TZOFFSETTO:-0400
TZNAME:EDT
DTSTART:20260308T070000
END:DAYLIGHT
BEGIN:STANDARD
TZOFFSETFROM:-0400
TZOFFSETTO:-0500
TZNAME:EST
DTSTART:20261101T060000
END:STANDARD
END:VTIMEZONE
BEGIN:VEVENT
DTSTART;TZID=America/Toronto:20250507T120000
DTEND;TZID=America/Toronto:20250507T130000
DTSTAMP:20260419T123841
CREATED:20250318T183134Z
LAST-MODIFIED:20250617T185905Z
UID:82958-1746619200-1746622800@yesmontreal.ca
SUMMARY:Drop-In Sessions for Job Seekers
DESCRIPTION:  \nGet Expert Job Search Advice – Free Drop-In Sessions for Job Seekers\n  \nStruggling with Your Job Search? Unsure of Your Next Steps?\nGet expert job search advice whether you’re updating your CV and need expert feedback\, struggling to craft a cover letter that grabs employers’ attention\, or wondering how to make your LinkedIn profile stand out\, we’re here to help! Our free Drop-In Sessions for Job Seekers offer personalized guidance to help you navigate the job market with confidence. \nMaybe you’re preparing for an upcoming job interview and want to sharpen your responses\, or perhaps you’re worried about how to address employment gaps on your resume. No matter the challenge\, our experienced Employment Counsellors are ready to help! They can provide the insights and strategies you need to make a strong impression and land your next opportunity. \n  \nHow Our Free Drop-In Sessions Work\nOur 15-minute consultations give you direct access to an experienced Employment Counsellor. They can answer your pressing questions and provide practical solutions. If you don’t already have an Employment Counsellor or need last-minute job search help\, this is the perfect opportunity to get professional guidance. \n  \nWhat You Can Get Help With\n🔹 CV & Cover Letter Reviews – Learn how to tailor your application to stand out.\n🔹 LinkedIn Profile Optimization – Make your profile employer-ready.\n🔹 Interview Preparation – Get tips to answer tough questions with confidence.\n🔹 Addressing Employment Gaps – Learn how to position career breaks effectively. \n  \nBook Your Free Drop-In Session Today!\nTake advantage of this free job search support and get expert help when you need it. Don’t miss this chance to move forward in your career. Book your free Drop-In Session for Job Seekers today! \n📅 Available Monday – Thursday⏰ 12:00 PM – 1:00 PM📍 Pre-registration is required \n💡 Important: These sessions are open to Quebec residents only. \nSpaces are limited\, and booking is required. \nFor more information or to reserve your spot\, email us. \nFind out more about our Employment Services here.
URL:https://yesmontreal.ca/event/get-expert-job-search-advice/2025-05-07/
LOCATION:Online / Remote\, Canada
CATEGORIES:Daytime,Employment,Virtual
ORGANIZER;CN="YES Employment + Entrepreneurship":MAILTO:info@yesmontreal.ca
END:VEVENT
BEGIN:VEVENT
DTSTART;TZID=America/Toronto:20250507T140000
DTEND;TZID=America/Toronto:20250507T153000
DTSTAMP:20260419T123841
CREATED:20241203T220451Z
LAST-MODIFIED:20250506T205013Z
UID:77301-1746626400-1746631800@yesmontreal.ca
SUMMARY:Maximize Your Revenue Potential
DESCRIPTION:  \nUnlock Your Business’s Revenue Potential!\n  \nDid you know there are 26 revenue models for entrepreneurs you can leverage to grow your business? Join this free workshop designed for entrepreneurs and small-to-medium enterprises (SMEs) who want to broaden their revenue strategies and secure financial success. \nIn this exclusive session\, you’ll gain a comprehensive understanding of 26 revenue models for entrepreneurs. These models range from subscription-based approaches and affiliate marketing to contract manufacturing and beyond. This knowledge equips you with the tools to make informed decisions\, create multiple revenue streams\, and fortify your business’s financial foundation. \n  \nWhat to Expect from the Workshop\n  \n\nExplore 26 unique revenue models tailored to different industries.\nDiscover how to implement strategies like subscription services\, affiliate marketing\, and more.\nLearn practical techniques to optimize and diversify your revenue streams.\n\n  \nThis workshop demystifies the complexities of revenue generation\, offering actionable insights and strategies to help you take your business to the next level. Whether you’re a startup founder or an SME owner looking to boost profitability\, this session is your blueprint for financial growth. \n  \nBy the end\, you’ll leave with the confidence and tools to maximize your revenue potential and drive long-term success. \n  \nMaximize Your Revenue\, and Maximize Your Success!\n  \nRegister for this workshop and equip yourself with the tools you need to make informed decisions and jump-start your business! \n  \nSign Up Here\n\n\n\nPre-registration is required. This workshop is available as an online\, live-streaming webinar. \nOnce you register for the online workshop\, you will receive an email with instructions on how to log in. If you haven’t received the email an hour before the workshop starts\, please check your Spam/Junk folder. \nTo learn more about our services for entrepreneurs\, click here.
URL:https://yesmontreal.ca/event/revenue-models-for-entrepreneurs/2025-05-07/
LOCATION:Online / Remote\, Canada
CATEGORIES:Daytime,Entrepreneurship,Virtual
ORGANIZER;CN="YES Employment + Entrepreneurship":MAILTO:info@yesmontreal.ca
END:VEVENT
END:VCALENDAR