BEGIN:VCALENDAR
VERSION:2.0
PRODID:-//YES Employment and Entrepreneurship - ECPv6.15.20//NONSGML v1.0//EN
CALSCALE:GREGORIAN
METHOD:PUBLISH
X-WR-CALNAME:YES Employment and Entrepreneurship
X-ORIGINAL-URL:https://yesmontreal.ca
X-WR-CALDESC:Events for YES Employment and Entrepreneurship
REFRESH-INTERVAL;VALUE=DURATION:PT1H
X-Robots-Tag:noindex
X-PUBLISHED-TTL:PT1H
BEGIN:VTIMEZONE
TZID:America/Toronto
BEGIN:DAYLIGHT
TZOFFSETFROM:-0500
TZOFFSETTO:-0400
TZNAME:EDT
DTSTART:20240310T070000
END:DAYLIGHT
BEGIN:STANDARD
TZOFFSETFROM:-0400
TZOFFSETTO:-0500
TZNAME:EST
DTSTART:20241103T060000
END:STANDARD
BEGIN:DAYLIGHT
TZOFFSETFROM:-0500
TZOFFSETTO:-0400
TZNAME:EDT
DTSTART:20250309T070000
END:DAYLIGHT
BEGIN:STANDARD
TZOFFSETFROM:-0400
TZOFFSETTO:-0500
TZNAME:EST
DTSTART:20251102T060000
END:STANDARD
BEGIN:DAYLIGHT
TZOFFSETFROM:-0500
TZOFFSETTO:-0400
TZNAME:EDT
DTSTART:20260308T070000
END:DAYLIGHT
BEGIN:STANDARD
TZOFFSETFROM:-0400
TZOFFSETTO:-0500
TZNAME:EST
DTSTART:20261101T060000
END:STANDARD
END:VTIMEZONE
BEGIN:VEVENT
DTSTART;TZID=America/Toronto:20250429T120000
DTEND;TZID=America/Toronto:20250429T130000
DTSTAMP:20260423T142425
CREATED:20250318T183134Z
LAST-MODIFIED:20250617T185849Z
UID:82953-1745928000-1745931600@yesmontreal.ca
SUMMARY:Drop-In Sessions for Job Seekers
DESCRIPTION:  \nGet Expert Job Search Advice – Free Drop-In Sessions for Job Seekers\n  \nStruggling with Your Job Search? Unsure of Your Next Steps?\nGet expert job search advice whether you’re updating your CV and need expert feedback\, struggling to craft a cover letter that grabs employers’ attention\, or wondering how to make your LinkedIn profile stand out\, we’re here to help! Our free Drop-In Sessions for Job Seekers offer personalized guidance to help you navigate the job market with confidence. \nMaybe you’re preparing for an upcoming job interview and want to sharpen your responses\, or perhaps you’re worried about how to address employment gaps on your resume. No matter the challenge\, our experienced Employment Counsellors are ready to help! They can provide the insights and strategies you need to make a strong impression and land your next opportunity. \n  \nHow Our Free Drop-In Sessions Work\nOur 15-minute consultations give you direct access to an experienced Employment Counsellor. They can answer your pressing questions and provide practical solutions. If you don’t already have an Employment Counsellor or need last-minute job search help\, this is the perfect opportunity to get professional guidance. \n  \nWhat You Can Get Help With\n🔹 CV & Cover Letter Reviews – Learn how to tailor your application to stand out.\n🔹 LinkedIn Profile Optimization – Make your profile employer-ready.\n🔹 Interview Preparation – Get tips to answer tough questions with confidence.\n🔹 Addressing Employment Gaps – Learn how to position career breaks effectively. \n  \nBook Your Free Drop-In Session Today!\nTake advantage of this free job search support and get expert help when you need it. Don’t miss this chance to move forward in your career. Book your free Drop-In Session for Job Seekers today! \n📅 Available Monday – Thursday⏰ 12:00 PM – 1:00 PM📍 Pre-registration is required \n💡 Important: These sessions are open to Quebec residents only. \nSpaces are limited\, and booking is required. \nFor more information or to reserve your spot\, email us. \nFind out more about our Employment Services here.
URL:https://yesmontreal.ca/event/get-expert-job-search-advice/2025-04-29/
LOCATION:Online / Remote\, Canada
CATEGORIES:Daytime,Employment,Virtual
ORGANIZER;CN="YES Employment + Entrepreneurship":MAILTO:info@yesmontreal.ca
END:VEVENT
BEGIN:VEVENT
DTSTART;TZID=America/Toronto:20250429T130000
DTEND;TZID=America/Toronto:20250429T170000
DTSTAMP:20260423T142425
CREATED:20250320T190301Z
LAST-MODIFIED:20250414T154515Z
UID:83084-1745931600-1745946000@yesmontreal.ca
SUMMARY:NEW! Business Skills for Creative Souls Artists' Conference: Embrace Uncertainty and Create Opportunity
DESCRIPTION:Embrace Uncertainty\, Create Opportunity and Grow Your Art Career\n📅 Date: Tuesday\, April 29\, 2025\n🕒 Time: 1 PM – 5 PM (Networking mixer with light snacks afterward)\n📍 Location: Unitarian Church of Montreal (5035 de Maisonneuve Ouest\, near Vendôme Metro) \n🎨 Calling All Quebec Artists!\nWhether you paint\, sculpt\, perform\, write\, or dream—we invite you to explore how creativity thrives in uncertainty at the Business Skills for Creative Souls Artists’ Conference: Embrace Uncertainty and Create Opportunity! 🚀  Join us for a one-of-a-kind event hosted by Sonali Karnick (CBC’s All in a Weekend)\, where we’ll explore how stepping into the unknown can fuel creativity\, spark innovation\,  open doors to new possibilities and grow your art career. \nLearn from the experiences of fellow artists as they discuss the challenges they’ve faced\, the risks they’ve taken\, and the rewards of staying open to change. Whether you’re a beginner or experienced artist\, this discussion will leave you motivated and ready to navigate uncertainty on your creative path!  \nWhy Attend?\n✨ Here’s what’s in store:\n✅ Dive into insights from industry experts to grow your creative business\n✅ Discover new ways to market and sell your art while staying true to your vision\n✅ Unlock how embracing uncertainty can be your unique edge\n✅ Forge connections with artists and professionals across disciplines\n✅ Walk away energized and equipped to elevate your artistic career \n💡 Sessions include: \n🎯 Boosting Your Online Presence: SEO Strategies for Artists\n🤝 Networking Tips and Tricks for Artists\n🚀 INSPIRING ARTISTS PANEL: Embrace Uncertainty and Create Opportunity\n🌟 Top Things NOT To Do in a Grant Application: Get Expert Grant-writing Tips\n🌐 Networking Event  \n🎤 Keynote Speaker: Patrick Corrigan\, General Director of Opéra de Montréal\, will inspire you to collaborate across art forms and thrive in today’s ever-changing artistic landscape. \nAdded bonus: The conversation doesn’t stop here! Join Artist Coach Caroline Gauthier for a special online debrief session on Thursday\, May 1st\, from 10 AM to 12 noon. Share your experiences\, reflect on key insights\, and continue growing in a supportive and welcoming space. \n🌟 Can’t join in person? No problem! The conference is accessible online\, ensuring that artists can participate from anywhere. \n🎭 All disciplines are welcome – let’s explore\, connect\, and thrive together! \nFuel your passion. Embrace the challenge. Your next creative breakthrough starts now. \nGET YOUR TICKET\n\nEvent Highlights & Schedule\n🕛 12 PM: Registration & Doors Open\n🕐 1 PM: Opening Address & Welcome\n🕜 1:30 PM: 🎤 Keynote Speaker: Patrick Corrigan\, General Director\, Opéra de Montréal\nDiscover how collaboration across art forms can help artists thrive in today’s evolving industry. Patrick Corrigan will share insights on adapting to change\, building a sustainable creative career\, and leveraging partnerships to expand artistic reach. \n🕑 2:00 PM: 🤝 Networking for Artists: Build Meaningful Connections – Gonzalo Coloma\, Former YES Artist Business Coach\nNetworking isn’t just about attending events—it’s about knowing who to connect with\, when\, and how. Learn practical strategies to build long-lasting relationships\, navigate networking events with confidence\, and create opportunities for collaboration. \n🕝 2:30 PM: 🎯 Boost Your Online Presence: SEO for Artists – Jordanne Erichsen\, Founder\, EXPRESS Voice Studio\nWant to show up first on Google when people search for your art? Jordanne Erichsen will share how she taught herself Search Engine Optimization (SEO) and brought her business to #1 on Google. Get practical tips on improving your website’s visibility\, optimizing your social media\, and attracting new audiences online. \n🕞 3:15 PM: 🎭 Inspiring Artists Panel: Embrace Uncertainty & Create Opportunity\nHear from successful artists about overcoming creative challenges\, taking risks\, and staying open to change. Featuring: \nDavid Hodges – CEO & Artist Manager\, Starseeker\nKezna Dalz – Multidisciplinary Artist\nKate Lavut – Writer & Performer\nGavin Seal – Filmmaker \n🕟 4:30 PM: 📝 Grant Writing Mistakes to Avoid: Expert Tips from the Canada Council for the Arts – David Phu\, Program Officer\, Canada Council for the Arts\nEver wondered why some grant applications succeed while others don’t? Learn common mistakes that artists make when applying for funding and how to improve your chances of securing grants. Join David Phu in a Q&A-style discussion alongside YES Artist Coach Caroline Gauthier to get insider tips on what funders look for. \n🕔 5:00 – 7:00 PM: 🌐 Networking Event\nWrap up the day with a relaxed networking mixer where you can connect with fellow artists\, potential collaborators\, and industry professionals. Share your artistic journey\, exchange ideas\, and build meaningful relationships in a warm and inspiring atmosphere. \nBonus Session: Continue the Conversation!\n📅 Thursday\, May 1\, 2025 | 🕙 10 AM – 12 PM | Online\nJoin YES Artist Coach Caroline Gauthier for a special online debrief session where you can reflect on conference insights\, share your experiences\, and continue growing in a supportive space. \nRegister Now!\nTake the leap into the unknown. Your creative path awaits. Reserve your spot today! \nREGISTER NOW\n  \nSupported by: \n \nMedia Partners: \n \n \nFor more information about our Artists Program\, click here.
URL:https://yesmontreal.ca/event/grow-your-art-career-embrace-uncertainty-and-create-opportunity/
LOCATION:Unitarian Church of Montréal\, 5035 Boul. de Maisonneuve Ouest\, Montreal\, Quebec\, H4A 1Y5\, Canada
CATEGORIES:Artists,Arts,Networking
ORGANIZER;CN="YES Employment + Entrepreneurship":MAILTO:info@yesmontreal.ca
END:VEVENT
END:VCALENDAR